View In:
ArcGIS JavaScript
ArcGIS Online Map Viewer
ArcGIS Earth
ArcMap
View Footprint In:
ArcGIS Online Map Viewer
Service Description: Historical map showing the Niagara River, place names, township boundaries, hydrological features, the First Welland Canal, Brock's Monument.
"with the principle objects of interest in the vicinity of the seat of war in Upper Canada. From actual survey / R. Ackermann."
Digital reproduction of map (11 1/2 x 7 in.) in the Public Archives of Canada. National Map Collection. Library and Archives Canada.
Relief shown by shading
Georeferenced and modified from NMC Map number 59330 by Map, Data and GIS Library, Brock University.
Name: EarlyNiagara/NiagaraRiver1838NMC59330
Description: Historical map showing the Niagara River, place names, township boundaries, hydrological features, the First Welland Canal, Brock's Monument.
"with the principle objects of interest in the vicinity of the seat of war in Upper Canada. From actual survey / R. Ackermann."
Digital reproduction of map (11 1/2 x 7 in.) in the Public Archives of Canada. National Map Collection. Library and Archives Canada.
Relief shown by shading
Georeferenced and modified from NMC Map number 59330 by Map, Data and GIS Library, Brock University.
Single Fused Map Cache: false
Extent:
XMin: 637242.1747207697
YMin: 4737705.193593132
XMax: 693178.6622857697
YMax: 4797483.190920132
Spatial Reference: 26717
(26717)
Initial Extent:
XMin: 637242.1747207697
YMin: 4737705.193593132
XMax: 693178.6622857697
YMax: 4797483.190920132
Spatial Reference: 26717
(26717)
Full Extent:
XMin: 637242.1747207697
YMin: 4737705.193593132
XMax: 693178.6622857697
YMax: 4797483.190920132
Spatial Reference: 26717
(26717)
Pixel Size X: 14.662250999999989
Pixel Size Y: 14.662250999999976
Band Count: 1
Pixel Type: U16
RasterFunction Infos: {"rasterFunctionInfos": [{
"name": "None",
"description": "",
"help": ""
}]}
Mensuration Capabilities: Basic
Has Histograms: true
Has Colormap: false
Has Multi Dimensions : false
Rendering Rule:
Min Scale: 0
Max Scale: 0
Copyright Text: Map, Data & GIS Library, Brock University.
Service Data Type: esriImageServiceDataTypeGeneric
Min Values: 22
Max Values: 255
Mean Values: 151.02800827462
Standard Deviation Values: 45.362743501001
Object ID Field:
Fields:
None
Default Mosaic Method: Center
Allowed Mosaic Methods:
SortField:
SortValue: null
Mosaic Operator: First
Default Compression Quality: 75
Default Resampling Method: Bilinear
Max Record Count: null
Max Image Height: 4100
Max Image Width: 15000
Max Download Image Count: null
Max Mosaic Image Count: null
Allow Raster Function: true
Allow Copy: true
Allow Analysis: true
Allow Compute TiePoints: false
Supports Statistics: false
Supports Advanced Queries: false
Use StandardizedQueries: true
Raster Type Infos:
Name: Raster Dataset
Description: Supports all ArcGIS Raster Datasets
Help:
Has Raster Attribute Table: false
Edit Fields Info: null
Ownership Based AccessControl For Rasters: null
Child Resources:
Info
Histograms
Statistics
Key Properties
Legend
Raster Function Infos
Supported Operations:
Export Image
Identify
Measure
Compute Histograms
Compute Statistics Histograms
Get Samples
Compute Class Statistics
Query Boundary
Compute Pixel Location
Compute Angles
Validate
Project