View In:
ArcGIS JavaScript
ArcGIS Online Map Viewer
ArcGIS Earth
ArcMap
View Footprint In:
ArcGIS Online Map Viewer
Service Description: Historical map showing the Niagara River including concessions along the river, of Bertie, Willoughby, Stamford and Niagara townships, military reserve, towns, forts and roads.
Black ink stamp: Royl Engr. Office no.380
Scale [ca. 1:50,823]
Relief shown by shading.
Map date: 1844
Digital reproduction of map in the Public Archives of Canada. National Map Collection. Library and Archives.
Georeferenced and modified from NMC Map number 21851-1 by Map, Data and GIS Library, Brock University.
Name: EarlyNiagara/NiagaraRiver1844NMC218511
Description: Historical map showing the Niagara River including concessions along the river, of Bertie, Willoughby, Stamford and Niagara townships, military reserve, towns, forts and roads.
Black ink stamp: Royl Engr. Office no.380
Scale [ca. 1:50,823]
Relief shown by shading.
Map date: 1844
Digital reproduction of map in the Public Archives of Canada. National Map Collection. Library and Archives.
Georeferenced and modified from NMC Map number 21851-1 by Map, Data and GIS Library, Brock University.
Single Fused Map Cache: false
Extent:
XMin: 653753.9684877085
YMin: 4746002.046587771
XMax: 675204.9532877085
YMax: 4779658.2039637705
Spatial Reference: 26917
(26917)
Initial Extent:
XMin: 653753.9684877085
YMin: 4746002.046587771
XMax: 675204.9532877085
YMax: 4779658.2039637705
Spatial Reference: 26917
(26917)
Full Extent:
XMin: 653753.9684877085
YMin: 4746002.046587771
XMax: 675204.9532877085
YMax: 4779658.2039637705
Spatial Reference: 26917
(26917)
Pixel Size X: 8.755503999999991
Pixel Size Y: 8.75550399999993
Band Count: 1
Pixel Type: U16
RasterFunction Infos: {"rasterFunctionInfos": [{
"name": "None",
"description": "",
"help": ""
}]}
Mensuration Capabilities: Basic
Has Histograms: true
Has Colormap: false
Has Multi Dimensions : false
Rendering Rule:
Min Scale: 0
Max Scale: 0
Copyright Text: ["signed"]
Service Data Type: esriImageServiceDataTypeGeneric
Min Values: 0
Max Values: 255
Mean Values: 175.51663567384
Standard Deviation Values: 22.534566319586
Object ID Field:
Fields:
None
Default Mosaic Method: Center
Allowed Mosaic Methods:
SortField:
SortValue: null
Mosaic Operator: First
Default Compression Quality: 75
Default Resampling Method: Bilinear
Max Record Count: null
Max Image Height: 4100
Max Image Width: 15000
Max Download Image Count: null
Max Mosaic Image Count: null
Allow Raster Function: true
Allow Copy: true
Allow Analysis: true
Allow Compute TiePoints: false
Supports Statistics: false
Supports Advanced Queries: false
Use StandardizedQueries: true
Raster Type Infos:
Name: Raster Dataset
Description: Supports all ArcGIS Raster Datasets
Help:
Has Raster Attribute Table: false
Edit Fields Info: null
Ownership Based AccessControl For Rasters: null
Child Resources:
Info
Histograms
Statistics
Key Properties
Legend
Raster Function Infos
Supported Operations:
Export Image
Identify
Measure
Compute Histograms
Compute Statistics Histograms
Get Samples
Compute Class Statistics
Query Boundary
Compute Pixel Location
Compute Angles
Validate
Project