View In:
ArcGIS JavaScript
ArcGIS Online Map Viewer
ArcGIS Earth
ArcMap
View Footprint In:
ArcGIS Online Map Viewer
Service Description: Historical map showing the area along bank from Niagara Falls to Niagara suspension bridge at Queenston applied for by the company; heights of cliffs on both sides of river given; roads and distances.
Digital reproduction of map (45 x 56 cm.) in the Public Archives of Canada. National Map Collection. Library and Archives Canada.
Relief shown by shading. Depths shown by soundings.
Georeferenced and modified from NMC Map number 3154 by Map, Data and GIS Library, Brock University.
Name: EarlyNiagara/NiagaraRiver1852NMC3154
Description: Historical map showing the area along bank from Niagara Falls to Niagara suspension bridge at Queenston applied for by the company; heights of cliffs on both sides of river given; roads and distances.
Digital reproduction of map (45 x 56 cm.) in the Public Archives of Canada. National Map Collection. Library and Archives Canada.
Relief shown by shading. Depths shown by soundings.
Georeferenced and modified from NMC Map number 3154 by Map, Data and GIS Library, Brock University.
Single Fused Map Cache: false
Extent:
XMin: 644519.9089524559
YMin: 4753916.314475641
XMax: 678638.2257684559
YMax: 4787553.32127564
Spatial Reference: 26917
(26917)
Initial Extent:
XMin: 644519.9089524559
YMin: 4753916.314475641
XMax: 678638.2257684559
YMax: 4787553.32127564
Spatial Reference: 26917
(26917)
Full Extent:
XMin: 644519.9089524559
YMin: 4753916.314475641
XMax: 678638.2257684559
YMax: 4787553.32127564
Spatial Reference: 26917
(26917)
Pixel Size X: 5.469432000000006
Pixel Size Y: 5.469431999999939
Band Count: 1
Pixel Type: U16
RasterFunction Infos: {"rasterFunctionInfos": [{
"name": "None",
"description": "",
"help": ""
}]}
Mensuration Capabilities: Basic
Has Histograms: true
Has Colormap: false
Has Multi Dimensions : false
Rendering Rule:
Min Scale: 0
Max Scale: 0
Copyright Text: Map, Data & GIS Library, Brock University.
Service Data Type: esriImageServiceDataTypeGeneric
Min Values: 1
Max Values: 254
Mean Values: 187.86772035238
Standard Deviation Values: 21.144683424214
Object ID Field:
Fields:
None
Default Mosaic Method: Center
Allowed Mosaic Methods:
SortField:
SortValue: null
Mosaic Operator: First
Default Compression Quality: 75
Default Resampling Method: Bilinear
Max Record Count: null
Max Image Height: 4100
Max Image Width: 15000
Max Download Image Count: null
Max Mosaic Image Count: null
Allow Raster Function: true
Allow Copy: true
Allow Analysis: true
Allow Compute TiePoints: false
Supports Statistics: false
Supports Advanced Queries: false
Use StandardizedQueries: true
Raster Type Infos:
Name: Raster Dataset
Description: Supports all ArcGIS Raster Datasets
Help:
Has Raster Attribute Table: false
Edit Fields Info: null
Ownership Based AccessControl For Rasters: null
Child Resources:
Info
Histograms
Statistics
Key Properties
Legend
Raster Function Infos
Supported Operations:
Export Image
Identify
Measure
Compute Histograms
Compute Statistics Histograms
Get Samples
Compute Class Statistics
Query Boundary
Compute Pixel Location
Compute Angles
Validate
Project