View In:
ArcGIS JavaScript
ArcGIS Online Map Viewer
ArcGIS Earth
ArcMap
View Footprint In:
ArcGIS Online Map Viewer
Service Description: Historical map showing the lots of Stamford and Niagara, between Lake Ontario and Chippawa Creek. Includes Fort Mississauga and Fort Niagara, 2 proposed suspension bridges and the whirlpool and falls of the Niagara River.
"Sketch of the military reserves extending from Chippewa to the debouche of the Niagara River into Lake Ontario ... as may be surrendered to the Provincial Govt. ; ... actually required for purposes of defence. As called for by the military secretary's letter dates 10th May 1850".
[Signed] R.I. Pilkington ... Henry Vavasour
Digital reproduction of map in the Public Archives of Canada. National Map Collection. Library and Archives Canada.
Georeferenced and modified from NMC Map number 3010 by Map, Data and GIS Library, Brock University.
Name: EarlyNiagara/NiagaraRiverStamford1850NMC3010
Description: Historical map showing the lots of Stamford and Niagara, between Lake Ontario and Chippawa Creek. Includes Fort Mississauga and Fort Niagara, 2 proposed suspension bridges and the whirlpool and falls of the Niagara River.
"Sketch of the military reserves extending from Chippewa to the debouche of the Niagara River into Lake Ontario ... as may be surrendered to the Provincial Govt. ; ... actually required for purposes of defence. As called for by the military secretary's letter dates 10th May 1850".
[Signed] R.I. Pilkington ... Henry Vavasour
Digital reproduction of map in the Public Archives of Canada. National Map Collection. Library and Archives Canada.
Georeferenced and modified from NMC Map number 3010 by Map, Data and GIS Library, Brock University.
Single Fused Map Cache: false
Extent:
XMin: 643650.9722531347
YMin: 4761424.8970086025
XMax: 668519.6052331347
YMax: 4796785.154580602
Spatial Reference: 26917
(26917)
Initial Extent:
XMin: 643650.9722531347
YMin: 4761424.8970086025
XMax: 668519.6052331347
YMax: 4796785.154580602
Spatial Reference: 26917
(26917)
Full Extent:
XMin: 643650.9722531347
YMin: 4761424.8970086025
XMax: 668519.6052331347
YMax: 4796785.154580602
Spatial Reference: 26917
(26917)
Pixel Size X: 5.441713999999999
Pixel Size Y: 5.441713999999987
Band Count: 1
Pixel Type: U16
RasterFunction Infos: {"rasterFunctionInfos": [{
"name": "None",
"description": "",
"help": ""
}]}
Mensuration Capabilities: Basic
Has Histograms: true
Has Colormap: false
Has Multi Dimensions : false
Rendering Rule:
Min Scale: 0
Max Scale: 0
Copyright Text: Map, Data & GIS Library, Brock University.
Service Data Type: esriImageServiceDataTypeGeneric
Min Values: 0
Max Values: 255
Mean Values: 197.96142817005
Standard Deviation Values: 36.289742291106
Object ID Field:
Fields:
None
Default Mosaic Method: Center
Allowed Mosaic Methods:
SortField:
SortValue: null
Mosaic Operator: First
Default Compression Quality: 75
Default Resampling Method: Bilinear
Max Record Count: null
Max Image Height: 4100
Max Image Width: 15000
Max Download Image Count: null
Max Mosaic Image Count: null
Allow Raster Function: true
Allow Copy: true
Allow Analysis: true
Allow Compute TiePoints: false
Supports Statistics: false
Supports Advanced Queries: false
Use StandardizedQueries: true
Raster Type Infos:
Name: Raster Dataset
Description: Supports all ArcGIS Raster Datasets
Help:
Has Raster Attribute Table: false
Edit Fields Info: null
Ownership Based AccessControl For Rasters: null
Child Resources:
Info
Histograms
Statistics
Key Properties
Legend
Raster Function Infos
Supported Operations:
Export Image
Identify
Measure
Compute Histograms
Compute Statistics Histograms
Get Samples
Compute Class Statistics
Query Boundary
Compute Pixel Location
Compute Angles
Validate
Project