View In:
ArcGIS JavaScript
ArcGIS Online Map Viewer
ArcGIS Earth
ArcMap
View Footprint In:
ArcGIS Online Map Viewer
Service Description: Map date: 1789.
"No. 15"
Oriented with north to the bottom.
Coloured version.
Black and white version (53 x 35 cm.) available in Brock call # G 3464 N55 G46 1789 N53
Georeferenced and modified by Map, Data and GIS Library, Brock University.
Name: EarlyNiagara/NiagaraTownship1789
Description: Map date: 1789.
"No. 15"
Oriented with north to the bottom.
Coloured version.
Black and white version (53 x 35 cm.) available in Brock call # G 3464 N55 G46 1789 N53
Georeferenced and modified by Map, Data and GIS Library, Brock University.
Single Fused Map Cache: false
Extent:
XMin: 648299.9966014404
YMin: 4779078.377655037
XMax: 660568.1753554404
YMax: 4795056.109905037
Spatial Reference: 26917
(26917)
Initial Extent:
XMin: 648299.9966014404
YMin: 4779078.377655037
XMax: 660568.1753554404
YMax: 4795056.109905037
Spatial Reference: 26917
(26917)
Full Extent:
XMin: 648299.9966014404
YMin: 4779078.377655037
XMax: 660568.1753554404
YMax: 4795056.109905037
Spatial Reference: 26917
(26917)
Pixel Size X: 2.7196139999999986
Pixel Size Y: 2.7196140000000595
Band Count: 3
Pixel Type: U16
RasterFunction Infos: {"rasterFunctionInfos": [{
"name": "None",
"description": "",
"help": ""
}]}
Mensuration Capabilities: Basic
Has Histograms: true
Has Colormap: false
Has Multi Dimensions : false
Rendering Rule:
Min Scale: 0
Max Scale: 0
Copyright Text: Signed by Augustus JonesScan acquired from: Ontario Archives' Digital patent plans no. RG 1-100-0-0-1731Map, Data & GIS Library, Brock University.
Service Data Type: esriImageServiceDataTypeGeneric
Min Values: 2, 0, 0
Max Values: 242, 222, 182
Mean Values: 164.72541418023, 139.32944400083, 99.334051223249
Standard Deviation Values: 22.631276493529, 22.947851943369, 19.355239933873
Object ID Field:
Fields:
None
Default Mosaic Method: Center
Allowed Mosaic Methods:
SortField:
SortValue: null
Mosaic Operator: First
Default Compression Quality: 75
Default Resampling Method: Bilinear
Max Record Count: null
Max Image Height: 4100
Max Image Width: 15000
Max Download Image Count: null
Max Mosaic Image Count: null
Allow Raster Function: true
Allow Copy: true
Allow Analysis: true
Allow Compute TiePoints: false
Supports Statistics: false
Supports Advanced Queries: false
Use StandardizedQueries: true
Raster Type Infos:
Name: Raster Dataset
Description: Supports all ArcGIS Raster Datasets
Help:
Has Raster Attribute Table: false
Edit Fields Info: null
Ownership Based AccessControl For Rasters: null
Child Resources:
Info
Histograms
Statistics
Key Properties
Legend
Raster Function Infos
Supported Operations:
Export Image
Identify
Measure
Compute Histograms
Compute Statistics Histograms
Get Samples
Compute Class Statistics
Query Boundary
Compute Pixel Location
Compute Angles
Validate
Project