View In:
ArcGIS JavaScript
ArcGIS Online Map Viewer
ArcGIS Earth
ArcMap
View Footprint In:
ArcGIS Online Map Viewer
Service Description: Map date: 1910.
Scale: 8 chains = 1 inch.
Relief shown by hachures.
Alternate title: Plan, part of the Town of Niagara.
Georeferenced and modified by Map, Data and GIS Library, Brock University.
Name: EarlyNiagara/NiagaraTownship1910
Description: Map date: 1910.
Scale: 8 chains = 1 inch.
Relief shown by hachures.
Alternate title: Plan, part of the Town of Niagara.
Georeferenced and modified by Map, Data and GIS Library, Brock University.
Single Fused Map Cache: false
Extent:
XMin: 654691.2722209705
YMin: 4787288.89203245
XMax: 659159.4052077085
YMax: 4792112.248859558
Spatial Reference: 26917
(26917)
Initial Extent:
XMin: 654691.2722209705
YMin: 4787288.89203245
XMax: 659159.4052077085
YMax: 4792112.248859558
Spatial Reference: 26917
(26917)
Full Extent:
XMin: 654691.2722209705
YMin: 4787288.89203245
XMax: 659159.4052077085
YMax: 4792112.248859558
Spatial Reference: 26917
(26917)
Pixel Size X: 1.4913661504465945
Pixel Size Y: 1.2058392067770474
Band Count: 3
Pixel Type: U8
RasterFunction Infos: {"rasterFunctionInfos": [{
"name": "None",
"description": "",
"help": ""
}]}
Mensuration Capabilities: Basic
Has Histograms: false
Has Colormap: false
Has Multi Dimensions : false
Rendering Rule:
Min Scale: 0
Max Scale: 0
Copyright Text: Signed: Alexander Niven, Ontario Land Surveyor
Department of Lands, Forests and Mines,
Scan acquired from: Ontario Archives' Digital patent plans no. RG 1-100-0-0-1735
Map, Data & GIS Library, Brock University.
Service Data Type: esriImageServiceDataTypeRGB
Min Values: N/A
Max Values: N/A
Mean Values: N/A
Standard Deviation Values: N/A
Object ID Field:
Fields:
None
Default Mosaic Method: Center
Allowed Mosaic Methods:
SortField:
SortValue: null
Mosaic Operator: First
Default Compression Quality: 75
Default Resampling Method: Bilinear
Max Record Count: null
Max Image Height: 4100
Max Image Width: 15000
Max Download Image Count: null
Max Mosaic Image Count: null
Allow Raster Function: true
Allow Copy: true
Allow Analysis: true
Allow Compute TiePoints: false
Supports Statistics: false
Supports Advanced Queries: false
Use StandardizedQueries: true
Raster Type Infos:
Name: Raster Dataset
Description: Supports all ArcGIS Raster Datasets
Help:
Has Raster Attribute Table: false
Edit Fields Info: null
Ownership Based AccessControl For Rasters: null
Child Resources:
Info
Statistics
Key Properties
Legend
Raster Function Infos
Supported Operations:
Export Image
Identify
Measure
Compute Histograms
Compute Statistics Histograms
Get Samples
Compute Class Statistics
Query Boundary
Compute Pixel Location
Compute Angles
Validate
Project