View In:
ArcGIS JavaScript
ArcGIS Online Map Viewer
ArcGIS Earth
ArcMap
View Footprint In:
ArcGIS Online Map Viewer
Service Description: Map showing roads and streets, boundaries, hydrological features, lots and concessions, legend. Ozalid print.
Name: EarlyNiagara/Niagara_Falls_1965_geo_tif
Description: Map showing roads and streets, boundaries, hydrological features, lots and concessions, legend. Ozalid print.
Single Fused Map Cache: false
Extent:
XMin: 647469.1787795854
YMin: 4757396.01014597
XMax: 663208.7885758219
YMax: 4781547.0585911255
Spatial Reference: 26917
(26917)
Initial Extent:
XMin: 647469.1787795854
YMin: 4757396.01014597
XMax: 663208.7885758219
YMax: 4781547.0585911255
Spatial Reference: 26917
(26917)
Full Extent:
XMin: 647469.1787795854
YMin: 4757396.01014597
XMax: 663208.7885758219
YMax: 4781547.0585911255
Spatial Reference: 26917
(26917)
Pixel Size X: 1.6077231661120022
Pixel Size Y: 1.508497716749272
Band Count: 1
Pixel Type: U8
RasterFunction Infos: {"rasterFunctionInfos": [{
"name": "None",
"description": "",
"help": ""
}]}
Mensuration Capabilities: Basic
Has Histograms: true
Has Colormap: false
Has Multi Dimensions : false
Rendering Rule:
Min Scale: 0
Max Scale: 0
Copyright Text: Brock University Map, Data & GIS Library
Service Data Type: esriImageServiceDataTypeGeneric
Min Values: 0
Max Values: 249
Mean Values: 211.93465692094
Standard Deviation Values: 31.789849981474
Object ID Field:
Fields:
None
Default Mosaic Method: Center
Allowed Mosaic Methods:
SortField:
SortValue: null
Mosaic Operator: First
Default Compression Quality: 75
Default Resampling Method: Bilinear
Max Record Count: null
Max Image Height: 4100
Max Image Width: 15000
Max Download Image Count: null
Max Mosaic Image Count: null
Allow Raster Function: true
Allow Copy: true
Allow Analysis: true
Allow Compute TiePoints: false
Supports Statistics: false
Supports Advanced Queries: false
Use StandardizedQueries: true
Raster Type Infos:
Name: Raster Dataset
Description: Supports all ArcGIS Raster Datasets
Help:
Has Raster Attribute Table: false
Edit Fields Info: null
Ownership Based AccessControl For Rasters: null
Child Resources:
Info
Histograms
Statistics
Key Properties
Legend
Raster Function Infos
Supported Operations:
Export Image
Identify
Measure
Compute Histograms
Compute Statistics Histograms
Get Samples
Compute Class Statistics
Query Boundary
Compute Pixel Location
Compute Angles
Validate
Project