View In:
ArcGIS JavaScript
ArcGIS Online Map Viewer
ArcGIS Earth
ArcMap
View Footprint In:
ArcGIS Online Map Viewer
Service Description: Historical map showing boundaries of Mississauga Point and Fort, Niagara River, Navy Hall, site of Fort George, Rangers' barracks, Fort Niagara, and division line between the settlements and the land reserved for public buildings. Supplied title: Niagara-on-the-Lake. Printed title in each corner: Niagara. "Plan of part of Lake Ontario & of the River Niagara with some tracts laid down opposite the Fort" -- handwritten in margin. Archives of Ontario ref. no. C295-1-102-0-1 Photocopy. Described in: Mapping Upper Canada, 1780-1867 / Joan Winearls. 1991. Reference no.: 1668
Name: EarlyNiagara/NiagaraontheLake1790
Description: Historical map showing boundaries of Mississauga Point and Fort, Niagara River, Navy Hall, site of Fort George, Rangers' barracks, Fort Niagara, and division line between the settlements and the land reserved for public buildings. Supplied title: Niagara-on-the-Lake. Printed title in each corner: Niagara. "Plan of part of Lake Ontario & of the River Niagara with some tracts laid down opposite the Fort" -- handwritten in margin. Archives of Ontario ref. no. C295-1-102-0-1 Photocopy. Described in: Mapping Upper Canada, 1780-1867 / Joan Winearls. 1991. Reference no.: 1668
Single Fused Map Cache: false
Extent:
XMin: 650675.2388695217
YMin: 4788157.560972746
XMax: 658850.1279029312
YMax: 4792482.148716513
Spatial Reference: 26917
(26917)
Initial Extent:
XMin: 650675.2388695217
YMin: 4788157.560972746
XMax: 658850.1279029312
YMax: 4792482.148716513
Spatial Reference: 26917
(26917)
Full Extent:
XMin: 650675.2388695217
YMin: 4788157.560972746
XMax: 658850.1279029312
YMax: 4792482.148716513
Spatial Reference: 26917
(26917)
Pixel Size X: 0.9499057673029903
Pixel Size Y: 0.7162285100640288
Band Count: 1
Pixel Type: U8
RasterFunction Infos: {"rasterFunctionInfos": [{
"name": "None",
"description": "",
"help": ""
}]}
Mensuration Capabilities: Basic
Has Histograms: true
Has Colormap: false
Has Multi Dimensions : false
Rendering Rule:
Min Scale: 0
Max Scale: 0
Copyright Text: Brock University, Map, Data & GIS Library
Service Data Type: esriImageServiceDataTypeGeneric
Min Values: 0
Max Values: 255
Mean Values: 196.5274320426
Standard Deviation Values: 51.930607287638
Object ID Field:
Fields:
None
Default Mosaic Method: Center
Allowed Mosaic Methods:
SortField:
SortValue: null
Mosaic Operator: First
Default Compression Quality: 75
Default Resampling Method: Bilinear
Max Record Count: null
Max Image Height: 4100
Max Image Width: 15000
Max Download Image Count: null
Max Mosaic Image Count: null
Allow Raster Function: true
Allow Copy: true
Allow Analysis: true
Allow Compute TiePoints: false
Supports Statistics: false
Supports Advanced Queries: false
Use StandardizedQueries: true
Raster Type Infos:
Name: Raster Dataset
Description: Supports all ArcGIS Raster Datasets
Help:
Has Raster Attribute Table: false
Edit Fields Info: null
Ownership Based AccessControl For Rasters: null
Child Resources:
Info
Histograms
Statistics
Key Properties
Legend
Raster Function Infos
Supported Operations:
Export Image
Identify
Measure
Compute Histograms
Compute Statistics Histograms
Get Samples
Compute Class Statistics
Query Boundary
Compute Pixel Location
Compute Angles
Validate
Project