View In:
ArcGIS JavaScript
ArcGIS Online Map Viewer
ArcGIS Earth
ArcMap
View Footprint In:
ArcGIS Online Map Viewer
Service Description: Historical map showing Fort Niagara on the American side with buildings and relief. Navy Hall, Rangers' Barracks, Mississauga Point with a plan of fortifications, boundary of reservation, and reserve for a fort to the south [Fort George] with note "ground within 800 yards of the Fort to be reserved for Government", roads, buildings, marsh and relief shown on the British side.
Relief shown by shading.
Scale [1:2,400] or 1 " to 200 ft.
Map date: 1790
Digital reproduction of map (90 x 110 cm.) in the Public Archives of Canada. National Map Collection. Library and Archives Canada.
Georeferenced and modified from NMC Map number 17879 by Map, Data and GIS Library, Brock University.
Name: EarlyNiagara/NiagaraontheLake1790NMC17879
Description: Historical map showing Fort Niagara on the American side with buildings and relief. Navy Hall, Rangers' Barracks, Mississauga Point with a plan of fortifications, boundary of reservation, and reserve for a fort to the south [Fort George] with note "ground within 800 yards of the Fort to be reserved for Government", roads, buildings, marsh and relief shown on the British side.
Relief shown by shading.
Scale [1:2,400] or 1 " to 200 ft.
Map date: 1790
Digital reproduction of map (90 x 110 cm.) in the Public Archives of Canada. National Map Collection. Library and Archives Canada.
Georeferenced and modified from NMC Map number 17879 by Map, Data and GIS Library, Brock University.
Single Fused Map Cache: false
Extent:
XMin: 655208.7034025617
YMin: 4789731.817320335
XMax: 658636.5762775617
YMax: 4792623.343160335
Spatial Reference: 26917
(26917)
Initial Extent:
XMin: 655208.7034025617
YMin: 4789731.817320335
XMax: 658636.5762775617
YMax: 4792623.343160335
Spatial Reference: 26917
(26917)
Full Extent:
XMin: 655208.7034025617
YMin: 4789731.817320335
XMax: 658636.5762775617
YMax: 4792623.343160335
Spatial Reference: 26917
(26917)
Pixel Size X: 0.48450500000000013
Pixel Size Y: 0.4845050000000418
Band Count: 1
Pixel Type: U16
RasterFunction Infos: {"rasterFunctionInfos": [{
"name": "None",
"description": "",
"help": ""
}]}
Mensuration Capabilities: Basic
Has Histograms: true
Has Colormap: false
Has Multi Dimensions : false
Rendering Rule:
Min Scale: 0
Max Scale: 0
Copyright Text: Map, Data & GIS Library, Brock University.
Service Data Type: esriImageServiceDataTypeGeneric
Min Values: 2
Max Values: 255
Mean Values: 182.31067558674
Standard Deviation Values: 34.83956926556
Object ID Field:
Fields:
None
Default Mosaic Method: Center
Allowed Mosaic Methods:
SortField:
SortValue: null
Mosaic Operator: First
Default Compression Quality: 75
Default Resampling Method: Bilinear
Max Record Count: null
Max Image Height: 4100
Max Image Width: 15000
Max Download Image Count: null
Max Mosaic Image Count: null
Allow Raster Function: true
Allow Copy: true
Allow Analysis: true
Allow Compute TiePoints: false
Supports Statistics: false
Supports Advanced Queries: false
Use StandardizedQueries: true
Raster Type Infos:
Name: Raster Dataset
Description: Supports all ArcGIS Raster Datasets
Help:
Has Raster Attribute Table: false
Edit Fields Info: null
Ownership Based AccessControl For Rasters: null
Child Resources:
Info
Histograms
Statistics
Key Properties
Legend
Raster Function Infos
Supported Operations:
Export Image
Identify
Measure
Compute Histograms
Compute Statistics Histograms
Get Samples
Compute Class Statistics
Query Boundary
Compute Pixel Location
Compute Angles
Validate
Project