View In:
ArcGIS JavaScript
ArcGIS Online Map Viewer
ArcGIS Earth
ArcMap
View Footprint In:
ArcGIS Online Map Viewer
Service Description: Historical map showing boundaries, lot numbers and select street names. "Examined 6 Dec 1974 [by] D.W. Smith, Act'g. Sur. Genl. [and] W. Chewett" "A.42" Oriented with north to the bottom right corner. Described in: Mapping Upper Canada, 1780-1867 / Joan Winearls. 1991. Reference no.: 1671 National Map Collection no.: H1/440/Niagara-on-the-Lake/1794(1907)
Name: EarlyNiagara/NiagaraontheLake1794
Description: Historical map showing boundaries, lot numbers and select street names. "Examined 6 Dec 1974 [by] D.W. Smith, Act'g. Sur. Genl. [and] W. Chewett" "A.42" Oriented with north to the bottom right corner. Described in: Mapping Upper Canada, 1780-1867 / Joan Winearls. 1991. Reference no.: 1671 National Map Collection no.: H1/440/Niagara-on-the-Lake/1794(1907)
Single Fused Map Cache: false
Extent:
XMin: 653418.1476767155
YMin: 4788928.078834163
XMax: 657734.2739978773
YMax: 4792666.73933247
Spatial Reference: 26917
(26917)
Initial Extent:
XMin: 653418.1476767155
YMin: 4788928.078834163
XMax: 657734.2739978773
YMax: 4792666.73933247
Spatial Reference: 26917
(26917)
Full Extent:
XMin: 653418.1476767155
YMin: 4788928.078834163
XMax: 657734.2739978773
YMax: 4792666.73933247
Spatial Reference: 26917
(26917)
Pixel Size X: 0.3673611644532937
Pixel Size Y: 0.43619886807923075
Band Count: 1
Pixel Type: U8
RasterFunction Infos: {"rasterFunctionInfos": [{
"name": "None",
"description": "",
"help": ""
}]}
Mensuration Capabilities: Basic
Has Histograms: true
Has Colormap: false
Has Multi Dimensions : false
Rendering Rule:
Min Scale: 0
Max Scale: 0
Copyright Text: Brock University Map, Data & GIS Library
Service Data Type: esriImageServiceDataTypeGeneric
Min Values: 0
Max Values: 255
Mean Values: 206.52618402902
Standard Deviation Values: 53.550021444372
Object ID Field:
Fields:
None
Default Mosaic Method: Center
Allowed Mosaic Methods:
SortField:
SortValue: null
Mosaic Operator: First
Default Compression Quality: 75
Default Resampling Method: Bilinear
Max Record Count: null
Max Image Height: 4100
Max Image Width: 15000
Max Download Image Count: null
Max Mosaic Image Count: null
Allow Raster Function: true
Allow Copy: true
Allow Analysis: true
Allow Compute TiePoints: false
Supports Statistics: false
Supports Advanced Queries: false
Use StandardizedQueries: true
Raster Type Infos:
Name: Raster Dataset
Description: Supports all ArcGIS Raster Datasets
Help:
Has Raster Attribute Table: false
Edit Fields Info: null
Ownership Based AccessControl For Rasters: null
Child Resources:
Info
Histograms
Statistics
Key Properties
Legend
Raster Function Infos
Supported Operations:
Export Image
Identify
Measure
Compute Histograms
Compute Statistics Histograms
Get Samples
Compute Class Statistics
Query Boundary
Compute Pixel Location
Compute Angles
Validate
Project