View In:
ArcGIS JavaScript
ArcGIS Online Map Viewer
ArcGIS Earth
ArcMap
View Footprint In:
ArcGIS Online Map Viewer
Service Description: Historical map showing the town near the Mississauga reserve boundary north of Fort George, and Queen, Prideaux, and King streets. Other title on side of map: Military reserve of Missassauga Point at Niagara. "888" in bottom left corner. Archives of Ontario ref. no. C295-1-1-2-0-3. Photocopy. Described in: Mapping Upper Canada, 1780-1867 / Joan Winearls. 1991. Reference no.: 1673 (2)
Name: EarlyNiagara/NiagaraontheLake1796
Description: Historical map showing the town near the Mississauga reserve boundary north of Fort George, and Queen, Prideaux, and King streets. Other title on side of map: Military reserve of Missassauga Point at Niagara. "888" in bottom left corner. Archives of Ontario ref. no. C295-1-1-2-0-3. Photocopy. Described in: Mapping Upper Canada, 1780-1867 / Joan Winearls. 1991. Reference no.: 1673 (2)
Single Fused Map Cache: false
Extent:
XMin: 655377.6345474847
YMin: 4790531.256844576
XMax: 657004.2639092408
YMax: 4791972.231340625
Spatial Reference: 26917
(26917)
Initial Extent:
XMin: 655377.6345474847
YMin: 4790531.256844576
XMax: 657004.2639092408
YMax: 4791972.231340625
Spatial Reference: 26917
(26917)
Full Extent:
XMin: 655377.6345474847
YMin: 4790531.256844576
XMax: 657004.2639092408
YMax: 4791972.231340625
Spatial Reference: 26917
(26917)
Pixel Size X: 0.2694879658310381
Pixel Size Y: 0.28326606959875666
Band Count: 1
Pixel Type: U8
RasterFunction Infos: {"rasterFunctionInfos": [{
"name": "None",
"description": "",
"help": ""
}]}
Mensuration Capabilities: Basic
Has Histograms: true
Has Colormap: false
Has Multi Dimensions : false
Rendering Rule:
Min Scale: 0
Max Scale: 0
Copyright Text: Brock University Map, Data & GIS Library
Service Data Type: esriImageServiceDataTypeGeneric
Min Values: 0
Max Values: 255
Mean Values: 217.91369631631
Standard Deviation Values: 38.290561413765
Object ID Field:
Fields:
None
Default Mosaic Method: Center
Allowed Mosaic Methods:
SortField:
SortValue: null
Mosaic Operator: First
Default Compression Quality: 75
Default Resampling Method: Bilinear
Max Record Count: null
Max Image Height: 4100
Max Image Width: 15000
Max Download Image Count: null
Max Mosaic Image Count: null
Allow Raster Function: true
Allow Copy: true
Allow Analysis: true
Allow Compute TiePoints: false
Supports Statistics: false
Supports Advanced Queries: false
Use StandardizedQueries: true
Raster Type Infos:
Name: Raster Dataset
Description: Supports all ArcGIS Raster Datasets
Help:
Has Raster Attribute Table: false
Edit Fields Info: null
Ownership Based AccessControl For Rasters: null
Child Resources:
Info
Histograms
Statistics
Key Properties
Legend
Raster Function Infos
Supported Operations:
Export Image
Identify
Measure
Compute Histograms
Compute Statistics Histograms
Get Samples
Compute Class Statistics
Query Boundary
Compute Pixel Location
Compute Angles
Validate
Project