View In:
ArcGIS JavaScript
ArcGIS Online Map Viewer
ArcGIS Earth
ArcMap
View Footprint In:
ArcGIS Online Map Viewer
Service Description: Historical map showing the boundary of the military reserve in Niagara-on-the-Lake. Fort George is shown with buildings (planned or built), the presence of a marsh, and the relief of the area is indicated.
Relief shown by shading.
Scale [1:2,400] or 1" to 200 ft.
Map date 1796
Digital reproduction of map ( 73 x 128 cm.) in the Public Archives of Canada. National Map Collection. Library and Archives Canada.
Georeferenced and modified from NMC Map number 11397 by Map, Data and GIS Library, Brock University.
Name: EarlyNiagara/NiagaraontheLake1796NMC11397
Description: Historical map showing the boundary of the military reserve in Niagara-on-the-Lake. Fort George is shown with buildings (planned or built), the presence of a marsh, and the relief of the area is indicated.
Relief shown by shading.
Scale [1:2,400] or 1" to 200 ft.
Map date 1796
Digital reproduction of map ( 73 x 128 cm.) in the Public Archives of Canada. National Map Collection. Library and Archives Canada.
Georeferenced and modified from NMC Map number 11397 by Map, Data and GIS Library, Brock University.
Single Fused Map Cache: false
Extent:
XMin: 654485.4185733899
YMin: 4788730.621343828
XMax: 658630.9453113899
YMax: 4792269.982345828
Spatial Reference: 26917
(26917)
Initial Extent:
XMin: 654485.4185733899
YMin: 4788730.621343828
XMax: 658630.9453113899
YMax: 4792269.982345828
Spatial Reference: 26917
(26917)
Full Extent:
XMin: 654485.4185733899
YMin: 4788730.621343828
XMax: 658630.9453113899
YMax: 4792269.982345828
Spatial Reference: 26917
(26917)
Pixel Size X: 0.598977999999998
Pixel Size Y: 0.5989780000000082
Band Count: 1
Pixel Type: U16
RasterFunction Infos: {"rasterFunctionInfos": [{
"name": "None",
"description": "",
"help": ""
}]}
Mensuration Capabilities: Basic
Has Histograms: true
Has Colormap: false
Has Multi Dimensions : false
Rendering Rule:
Min Scale: 0
Max Scale: 0
Copyright Text: Map, Data & GIS Library, Brock University.
Service Data Type: esriImageServiceDataTypeGeneric
Min Values: 0
Max Values: 255
Mean Values: 205.02770761911
Standard Deviation Values: 31.217435932809
Object ID Field:
Fields:
None
Default Mosaic Method: Center
Allowed Mosaic Methods:
SortField:
SortValue: null
Mosaic Operator: First
Default Compression Quality: 75
Default Resampling Method: Bilinear
Max Record Count: null
Max Image Height: 4100
Max Image Width: 15000
Max Download Image Count: null
Max Mosaic Image Count: null
Allow Raster Function: true
Allow Copy: true
Allow Analysis: true
Allow Compute TiePoints: false
Supports Statistics: false
Supports Advanced Queries: false
Use StandardizedQueries: true
Raster Type Infos:
Name: Raster Dataset
Description: Supports all ArcGIS Raster Datasets
Help:
Has Raster Attribute Table: false
Edit Fields Info: null
Ownership Based AccessControl For Rasters: null
Child Resources:
Info
Histograms
Statistics
Key Properties
Legend
Raster Function Infos
Supported Operations:
Export Image
Identify
Measure
Compute Histograms
Compute Statistics Histograms
Get Samples
Compute Class Statistics
Query Boundary
Compute Pixel Location
Compute Angles
Validate
Project