View In:
ArcGIS JavaScript
ArcGIS Online Map Viewer
ArcGIS Earth
ArcMap
View Footprint In:
ArcGIS Online Map Viewer
Service Description: Historical map showing the town near the Mississauga reserve boundary north of Fort George, and Queen, Prideaux, and King streets. Other title on side of map: Military reserve at Niagara, Missassauga Point. "958" in bottom left corner. Archives of Ontario ref. no. C295-1-102-0-2. Photocopy. Described in: Mapping Upper Canada, 1780-1867 / Joan Winearls. 1991. Reference no.: 1673 (2)
Name: EarlyNiagara/NiagaraontheLake1796a
Description: Historical map showing the town near the Mississauga reserve boundary north of Fort George, and Queen, Prideaux, and King streets. Other title on side of map: Military reserve at Niagara, Missassauga Point. "958" in bottom left corner. Archives of Ontario ref. no. C295-1-102-0-2. Photocopy. Described in: Mapping Upper Canada, 1780-1867 / Joan Winearls. 1991. Reference no.: 1673 (2)
Single Fused Map Cache: false
Extent:
XMin: 655620.6199079087
YMin: 4790684.653308675
XMax: 656708.6470403791
YMax: 4791869.815632254
Spatial Reference: 26917
(26917)
Initial Extent:
XMin: 655620.6199079087
YMin: 4790684.653308675
XMax: 656708.6470403791
YMax: 4791869.815632254
Spatial Reference: 26917
(26917)
Full Extent:
XMin: 655620.6199079087
YMin: 4790684.653308675
XMax: 656708.6470403791
YMax: 4791869.815632254
Spatial Reference: 26917
(26917)
Pixel Size X: 0.172702719439745
Pixel Size Y: 0.24186986195493718
Band Count: 1
Pixel Type: U8
RasterFunction Infos: {"rasterFunctionInfos": [{
"name": "None",
"description": "",
"help": ""
}]}
Mensuration Capabilities: Basic
Has Histograms: true
Has Colormap: false
Has Multi Dimensions : false
Rendering Rule:
Min Scale: 0
Max Scale: 0
Copyright Text: Brock University Map, Data & GIS Library
Service Data Type: esriImageServiceDataTypeGeneric
Min Values: 0
Max Values: 255
Mean Values: 208.25322620665
Standard Deviation Values: 42.57810943601
Object ID Field:
Fields:
None
Default Mosaic Method: Center
Allowed Mosaic Methods:
SortField:
SortValue: null
Mosaic Operator: First
Default Compression Quality: 75
Default Resampling Method: Bilinear
Max Record Count: null
Max Image Height: 4100
Max Image Width: 15000
Max Download Image Count: null
Max Mosaic Image Count: null
Allow Raster Function: true
Allow Copy: true
Allow Analysis: true
Allow Compute TiePoints: false
Supports Statistics: false
Supports Advanced Queries: false
Use StandardizedQueries: true
Raster Type Infos:
Name: Raster Dataset
Description: Supports all ArcGIS Raster Datasets
Help:
Has Raster Attribute Table: false
Edit Fields Info: null
Ownership Based AccessControl For Rasters: null
Child Resources:
Info
Histograms
Statistics
Key Properties
Legend
Raster Function Infos
Supported Operations:
Export Image
Identify
Measure
Compute Histograms
Compute Statistics Histograms
Get Samples
Compute Class Statistics
Query Boundary
Compute Pixel Location
Compute Angles
Validate
Project