View In:
ArcGIS JavaScript
ArcGIS Online Map Viewer
ArcGIS Earth
ArcMap
View Footprint In:
ArcGIS Online Map Viewer
Service Description: Historical map showing buildings and lots with owner names. Shows 18 lots for merchants on low land by the river between Navy Hall and Mississauga reserve; 'Site of Fort George,' other buildings and roads shown.
Relief shown by shading.
Scale [1:2,400]. 1 in. to 200 ft.
Map date: 1802
Digital reproduction of map (14 3/4 x 36 in.) in the Public Archives of Canada. National Map Collection. Library and Archives Canada.
Georeferenced and modified from NMC Map number 19552 by Map, Data and GIS Library, Brock University.
Name: EarlyNiagara/NiagaraontheLake1802NMC19552
Description: Historical map showing buildings and lots with owner names. Shows 18 lots for merchants on low land by the river between Navy Hall and Mississauga reserve; 'Site of Fort George,' other buildings and roads shown.
Relief shown by shading.
Scale [1:2,400]. 1 in. to 200 ft.
Map date: 1802
Digital reproduction of map (14 3/4 x 36 in.) in the Public Archives of Canada. National Map Collection. Library and Archives Canada.
Georeferenced and modified from NMC Map number 19552 by Map, Data and GIS Library, Brock University.
Single Fused Map Cache: false
Extent:
XMin: 655800.3972148868
YMin: 4790057.756651385
XMax: 657984.6956398869
YMax: 4791794.465504385
Spatial Reference: 26917
(26917)
Initial Extent:
XMin: 655800.3972148868
YMin: 4790057.756651385
XMax: 657984.6956398869
YMax: 4791794.465504385
Spatial Reference: 26917
(26917)
Full Extent:
XMin: 655800.3972148868
YMin: 4790057.756651385
XMax: 657984.6956398869
YMax: 4791794.465504385
Spatial Reference: 26917
(26917)
Pixel Size X: 0.5109470000000104
Pixel Size Y: 0.510946999999954
Band Count: 1
Pixel Type: U16
RasterFunction Infos: {"rasterFunctionInfos": [{
"name": "None",
"description": "",
"help": ""
}]}
Mensuration Capabilities: Basic
Has Histograms: true
Has Colormap: false
Has Multi Dimensions : false
Rendering Rule:
Min Scale: 0
Max Scale: 0
Copyright Text: Submitted by Gother Mann, Col. Commanding Rl. Engrs. 10th Novr 1802.Map, Data & GIS Library, Brock University.
Service Data Type: esriImageServiceDataTypeGeneric
Min Values: 41
Max Values: 254
Mean Values: 155.80510540959
Standard Deviation Values: 26.883402904356
Object ID Field:
Fields:
None
Default Mosaic Method: Center
Allowed Mosaic Methods:
SortField:
SortValue: null
Mosaic Operator: First
Default Compression Quality: 75
Default Resampling Method: Bilinear
Max Record Count: null
Max Image Height: 4100
Max Image Width: 15000
Max Download Image Count: null
Max Mosaic Image Count: null
Allow Raster Function: true
Allow Copy: true
Allow Analysis: true
Allow Compute TiePoints: false
Supports Statistics: false
Supports Advanced Queries: false
Use StandardizedQueries: true
Raster Type Infos:
Name: Raster Dataset
Description: Supports all ArcGIS Raster Datasets
Help:
Has Raster Attribute Table: false
Edit Fields Info: null
Ownership Based AccessControl For Rasters: null
Child Resources:
Info
Histograms
Statistics
Key Properties
Legend
Raster Function Infos
Supported Operations:
Export Image
Identify
Measure
Compute Histograms
Compute Statistics Histograms
Get Samples
Compute Class Statistics
Query Boundary
Compute Pixel Location
Compute Angles
Validate
Project