View In:
ArcGIS JavaScript
ArcGIS Online Map Viewer
ArcGIS Earth
ArcMap
View Footprint In:
ArcGIS Online Map Viewer
Service Description: Historical map showing the town of Niagara (now Niagara-on-the-Lake), Fort George, and Fort Niagara. It shows all buildings in town, some named, including: churches, courthouse, prison, and the Indian Council House. Trees, relief, roads, creeks, rivers are shown. Pin holes are present for tracing at corners of buildings and along roads.
"by A. Gray Asst Qr Mr Genl Quebec 20th Novr 1810 This Plan is from a Trigonometrical Survey by Lieut: Gray [Sgd] Q.M. Genls Office Quebec 1st June 1811 James Kempt Q M Genl N. America"
Relief shown by shading.
Digital scan from map on the microfiche from the National Map Collection, Public Archives of Canada.
Georeferenced and modified from NMC Map number 19551 by Map, Data and GIS Library, Brock University.
Name: EarlyNiagara/NiagaraontheLake1810NMC19551
Description: Historical map showing the town of Niagara (now Niagara-on-the-Lake), Fort George, and Fort Niagara. It shows all buildings in town, some named, including: churches, courthouse, prison, and the Indian Council House. Trees, relief, roads, creeks, rivers are shown. Pin holes are present for tracing at corners of buildings and along roads.
"by A. Gray Asst Qr Mr Genl Quebec 20th Novr 1810 This Plan is from a Trigonometrical Survey by Lieut: Gray [Sgd] Q.M. Genls Office Quebec 1st June 1811 James Kempt Q M Genl N. America"
Relief shown by shading.
Digital scan from map on the microfiche from the National Map Collection, Public Archives of Canada.
Georeferenced and modified from NMC Map number 19551 by Map, Data and GIS Library, Brock University.
Single Fused Map Cache: false
Extent:
XMin: -8807041.893088846
YMin: 5347796.944586967
XMax: -8798717.926008845
YMax: 5352938.810854967
Spatial Reference: 102100
(3857)
Initial Extent:
XMin: -8807041.893088846
YMin: 5347796.944586967
XMax: -8798717.926008845
YMax: 5352938.810854967
Spatial Reference: 102100
(3857)
Full Extent:
XMin: -8807041.893088846
YMin: 5347796.944586967
XMax: -8798717.926008845
YMax: 5352938.810854967
Spatial Reference: 102100
(3857)
Pixel Size X: 0.7194440000000681
Pixel Size Y: 0.7194439999999488
Band Count: 1
Pixel Type: U16
RasterFunction Infos: {"rasterFunctionInfos": [{
"name": "None",
"description": "",
"help": ""
}]}
Mensuration Capabilities: Basic
Has Histograms: true
Has Colormap: false
Has Multi Dimensions : false
Rendering Rule:
Min Scale: 0
Max Scale: 0
Copyright Text: Map, Data & GIS Library, Brock University.
Service Data Type: esriImageServiceDataTypeGeneric
Min Values: 3
Max Values: 255
Mean Values: 186.00230373496
Standard Deviation Values: 31.582642759925
Object ID Field:
Fields:
None
Default Mosaic Method: Center
Allowed Mosaic Methods:
SortField:
SortValue: null
Mosaic Operator: First
Default Compression Quality: 75
Default Resampling Method: Bilinear
Max Record Count: null
Max Image Height: 4100
Max Image Width: 15000
Max Download Image Count: null
Max Mosaic Image Count: null
Allow Raster Function: true
Allow Copy: true
Allow Analysis: true
Allow Compute TiePoints: false
Supports Statistics: false
Supports Advanced Queries: false
Use StandardizedQueries: true
Raster Type Infos:
Name: Raster Dataset
Description: Supports all ArcGIS Raster Datasets
Help:
Has Raster Attribute Table: false
Edit Fields Info: null
Ownership Based AccessControl For Rasters: null
Child Resources:
Info
Histograms
Statistics
Key Properties
Legend
Raster Function Infos
Supported Operations:
Export Image
Identify
Measure
Compute Histograms
Compute Statistics Histograms
Get Samples
Compute Class Statistics
Query Boundary
Compute Pixel Location
Compute Angles
Validate
Project