View In:
ArcGIS JavaScript
ArcGIS Online Map Viewer
ArcGIS Earth
ArcMap
View Footprint In:
ArcGIS Online Map Viewer
Service Description: Historical map showing Fort Niagara, Fort George, Fort Mississauga, Butler's Barracks, officers and engineers quarters, outline of streets and buildings of the Town of Newark.
"Copied from the original of Lieut. Philpotts, R.B. by B. Darley Cranfield DAQMG."
Relief shown by hachures.
Georeferenced and modified by Map, Data and GIS Library, Brock University.
Name: EarlyNiagara/NiagaraontheLake1815
Description: Historical map showing Fort Niagara, Fort George, Fort Mississauga, Butler's Barracks, officers and engineers quarters, outline of streets and buildings of the Town of Newark.
"Copied from the original of Lieut. Philpotts, R.B. by B. Darley Cranfield DAQMG."
Relief shown by hachures.
Georeferenced and modified by Map, Data and GIS Library, Brock University.
Single Fused Map Cache: false
Extent:
XMin: 653057.0458478702
YMin: 4788695.0259122
XMax: 659226.7291327311
YMax: 4793560.050410597
Spatial Reference: 26917
(26917)
Initial Extent:
XMin: 653057.0458478702
YMin: 4788695.0259122
XMax: 659226.7291327311
YMax: 4793560.050410597
Spatial Reference: 26917
(26917)
Full Extent:
XMin: 653057.0458478702
YMin: 4788695.0259122
XMax: 659226.7291327311
YMax: 4793560.050410597
Spatial Reference: 26917
(26917)
Pixel Size X: 1.2557873569837001
Pixel Size Y: 1.1183964364130008
Band Count: 3
Pixel Type: U16
RasterFunction Infos: {"rasterFunctionInfos": [{
"name": "None",
"description": "",
"help": ""
}]}
Mensuration Capabilities: Basic
Has Histograms: true
Has Colormap: false
Has Multi Dimensions : false
Rendering Rule:
Min Scale: 0
Max Scale: 0
Copyright Text: Map, Data & GIS Library, Brock University.
Service Data Type: esriImageServiceDataTypeGeneric
Min Values: 1, 0, 0
Max Values: 255, 253, 239
Mean Values: 223.84135036973, 218.84449080669, 200.66773576631
Standard Deviation Values: 25.795136384934, 25.742024635875, 24.820026099222
Object ID Field:
Fields:
None
Default Mosaic Method: Center
Allowed Mosaic Methods:
SortField:
SortValue: null
Mosaic Operator: First
Default Compression Quality: 75
Default Resampling Method: Bilinear
Max Record Count: null
Max Image Height: 4100
Max Image Width: 15000
Max Download Image Count: null
Max Mosaic Image Count: null
Allow Raster Function: true
Allow Copy: true
Allow Analysis: true
Allow Compute TiePoints: false
Supports Statistics: false
Supports Advanced Queries: false
Use StandardizedQueries: true
Raster Type Infos:
Name: Raster Dataset
Description: Supports all ArcGIS Raster Datasets
Help:
Has Raster Attribute Table: false
Edit Fields Info: null
Ownership Based AccessControl For Rasters: null
Child Resources:
Info
Histograms
Statistics
Key Properties
Legend
Raster Function Infos
Supported Operations:
Export Image
Identify
Measure
Compute Histograms
Compute Statistics Histograms
Get Samples
Compute Class Statistics
Query Boundary
Compute Pixel Location
Compute Angles
Validate
Project