View In:
ArcGIS JavaScript
ArcGIS Online Map Viewer
ArcGIS Earth
ArcMap
View Footprint In:
ArcGIS Online Map Viewer
Service Description: Historical map showing Fort Niagara (US), Fort George (British), and the plan for Fort Mississauga. The town of Newark (NOTL) is outlined. Land relief and soundings in the Niagara River and Lake Ontario are noted. This plan differs from an earlier one as Fort Mississauga has been "placed further back from the Lake & the Tower brought into the center of the Flat Bastion".
Scale [ca. 1:3,647]
Map date: 1816
Digital reproduction of map (75 x 114 cm.) in the Public Archives of Canada. National Map Collection. Library and Archives Canada.
Relief shown by shading.
Georeferenced and modified from NMC Map number 17882 by Map, Data and GIS Library, Brock University.
Name: EarlyNiagara/NiagaraontheLake1816NMC17882
Description: Historical map showing Fort Niagara (US), Fort George (British), and the plan for Fort Mississauga. The town of Newark (NOTL) is outlined. Land relief and soundings in the Niagara River and Lake Ontario are noted. This plan differs from an earlier one as Fort Mississauga has been "placed further back from the Lake & the Tower brought into the center of the Flat Bastion".
Scale [ca. 1:3,647]
Map date: 1816
Digital reproduction of map (75 x 114 cm.) in the Public Archives of Canada. National Map Collection. Library and Archives Canada.
Relief shown by shading.
Georeferenced and modified from NMC Map number 17882 by Map, Data and GIS Library, Brock University.
Single Fused Map Cache: false
Extent:
XMin: 655116.2189245775
YMin: 4790057.293670912
XMax: 658344.9640765775
YMax: 4792976.757914912
Spatial Reference: 26917
(26917)
Initial Extent:
XMin: 655116.2189245775
YMin: 4790057.293670912
XMax: 658344.9640765775
YMax: 4792976.757914912
Spatial Reference: 26917
(26917)
Full Extent:
XMin: 655116.2189245775
YMin: 4790057.293670912
XMax: 658344.9640765775
YMax: 4792976.757914912
Spatial Reference: 26917
(26917)
Pixel Size X: 0.5268839999999981
Pixel Size Y: 0.5268839999999426
Band Count: 1
Pixel Type: U16
RasterFunction Infos: {"rasterFunctionInfos": [{
"name": "None",
"description": "",
"help": ""
}]}
Mensuration Capabilities: Basic
Has Histograms: true
Has Colormap: false
Has Multi Dimensions : false
Rendering Rule:
Min Scale: 0
Max Scale: 0
Copyright Text: by Lt Col Nicollsdrafted by: J.B. Duberger Jr.Map, Data & GIS Library, Brock University.
Service Data Type: esriImageServiceDataTypeGeneric
Min Values: 0
Max Values: 255
Mean Values: 196.33485863848
Standard Deviation Values: 36.461048775173
Object ID Field:
Fields:
None
Default Mosaic Method: Center
Allowed Mosaic Methods:
SortField:
SortValue: null
Mosaic Operator: First
Default Compression Quality: 75
Default Resampling Method: Bilinear
Max Record Count: null
Max Image Height: 4100
Max Image Width: 15000
Max Download Image Count: null
Max Mosaic Image Count: null
Allow Raster Function: true
Allow Copy: true
Allow Analysis: true
Allow Compute TiePoints: false
Supports Statistics: false
Supports Advanced Queries: false
Use StandardizedQueries: true
Raster Type Infos:
Name: Raster Dataset
Description: Supports all ArcGIS Raster Datasets
Help:
Has Raster Attribute Table: false
Edit Fields Info: null
Ownership Based AccessControl For Rasters: null
Child Resources:
Info
Histograms
Statistics
Key Properties
Legend
Raster Function Infos
Supported Operations:
Export Image
Identify
Measure
Compute Histograms
Compute Statistics Histograms
Get Samples
Compute Class Statistics
Query Boundary
Compute Pixel Location
Compute Angles
Validate
Project