View In:
ArcGIS JavaScript
ArcGIS Online Map Viewer
ArcGIS Earth
ArcMap
View Footprint In:
ArcGIS Online Map Viewer
Service Description: Historical map showing the star shaped plan for Fort Mississauga, the streets of Newark (NOTL), Fort George as it was before the war and as altered by the Americans, the merchant lots, and the shops and yard established during the war. On the American side, the state of Fort Niagara in Feb 1815 is drawn. The map also indicates soundings for the Niagara River and Lake Ontario.
Name: EarlyNiagara/NiagaraontheLake1816NMC17884
Description: Historical map showing the star shaped plan for Fort Mississauga, the streets of Newark (NOTL), Fort George as it was before the war and as altered by the Americans, the merchant lots, and the shops and yard established during the war. On the American side, the state of Fort Niagara in Feb 1815 is drawn. The map also indicates soundings for the Niagara River and Lake Ontario.
Single Fused Map Cache: false
Extent:
XMin: 655064.9929168663
YMin: 4790008.93028539
XMax: 658348.0122088663
YMax: 4792965.40840939
Spatial Reference: 26917
(26917)
Initial Extent:
XMin: 655064.9929168663
YMin: 4790008.93028539
XMax: 658348.0122088663
YMax: 4792965.40840939
Spatial Reference: 26917
(26917)
Full Extent:
XMin: 655064.9929168663
YMin: 4790008.93028539
XMax: 658348.0122088663
YMax: 4792965.40840939
Spatial Reference: 26917
(26917)
Pixel Size X: 0.5335639999999972
Pixel Size Y: 0.5335640000000238
Band Count: 1
Pixel Type: U16
RasterFunction Infos: {"rasterFunctionInfos": [{
"name": "None",
"description": "",
"help": ""
}]}
Mensuration Capabilities: Basic
Has Histograms: false
Has Colormap: false
Has Multi Dimensions : false
Rendering Rule:
Min Scale: 0
Max Scale: 0
Copyright Text:
Service Data Type: esriImageServiceDataTypeGeneric
Min Values: N/A
Max Values: N/A
Mean Values: N/A
Standard Deviation Values: N/A
Object ID Field:
Fields:
None
Default Mosaic Method: Center
Allowed Mosaic Methods:
SortField:
SortValue: null
Mosaic Operator: First
Default Compression Quality: 75
Default Resampling Method: Bilinear
Max Record Count: null
Max Image Height: 4100
Max Image Width: 15000
Max Download Image Count: null
Max Mosaic Image Count: null
Allow Raster Function: true
Allow Copy: true
Allow Analysis: true
Allow Compute TiePoints: false
Supports Statistics: false
Supports Advanced Queries: false
Use StandardizedQueries: true
Raster Type Infos:
Name: Raster Dataset
Description: Supports all ArcGIS Raster Datasets
Help:
Has Raster Attribute Table: false
Edit Fields Info: null
Ownership Based AccessControl For Rasters: null
Child Resources:
Info
Statistics
Key Properties
Legend
Raster Function Infos
Supported Operations:
Export Image
Identify
Measure
Compute Histograms
Compute Statistics Histograms
Get Samples
Compute Class Statistics
Query Boundary
Compute Pixel Location
Compute Angles
Validate
Project