View In:
ArcGIS JavaScript
ArcGIS Online Map Viewer
ArcGIS Earth
ArcMap
View Footprint In:
ArcGIS Online Map Viewer
Service Description: Historical map showing lot boundaries and numbers, "reserve for works" at Mississauga Point.
"Copy, York U.C. May 3rd 1817, copied from a plan in the Surveyor Genls Office Sigd Geo. Phillpotts Lt R.E."
"C.S. 114"--bottom left corner.
Scale [ca. 1:10,000]
Map date: 1817
Digital reproduction of map in the Public Archives of Canada. National Map Collection. Library and Archives Canada.
Georeferenced and modified from NMC Map number 19556 by Map, Data and GIS Library, Brock University.
Name: EarlyNiagara/NiagaraontheLake1817NMC19556
Description: Historical map showing lot boundaries and numbers, "reserve for works" at Mississauga Point.
"Copy, York U.C. May 3rd 1817, copied from a plan in the Surveyor Genls Office Sigd Geo. Phillpotts Lt R.E."
"C.S. 114"--bottom left corner.
Scale [ca. 1:10,000]
Map date: 1817
Digital reproduction of map in the Public Archives of Canada. National Map Collection. Library and Archives Canada.
Georeferenced and modified from NMC Map number 19556 by Map, Data and GIS Library, Brock University.
Single Fused Map Cache: false
Extent:
XMin: 654157.5770909258
YMin: 4789688.933142276
XMax: 657184.7401649258
YMax: 4792723.871814275
Spatial Reference: 26917
(26917)
Initial Extent:
XMin: 654157.5770909258
YMin: 4789688.933142276
XMax: 657184.7401649258
YMax: 4792723.871814275
Spatial Reference: 26917
(26917)
Full Extent:
XMin: 654157.5770909258
YMin: 4789688.933142276
XMax: 657184.7401649258
YMax: 4792723.871814275
Spatial Reference: 26917
(26917)
Pixel Size X: 0.40924200000000543
Pixel Size Y: 0.40924199999994754
Band Count: 1
Pixel Type: U16
RasterFunction Infos: {"rasterFunctionInfos": [{
"name": "None",
"description": "",
"help": ""
}]}
Mensuration Capabilities: Basic
Has Histograms: true
Has Colormap: false
Has Multi Dimensions : false
Rendering Rule:
Min Scale: 0
Max Scale: 0
Copyright Text: ["signed"]
Service Data Type: esriImageServiceDataTypeGeneric
Min Values: 0
Max Values: 255
Mean Values: 146.75609183112
Standard Deviation Values: 36.19146110151
Object ID Field:
Fields:
None
Default Mosaic Method: Center
Allowed Mosaic Methods:
SortField:
SortValue: null
Mosaic Operator: First
Default Compression Quality: 75
Default Resampling Method: Bilinear
Max Record Count: null
Max Image Height: 4100
Max Image Width: 15000
Max Download Image Count: null
Max Mosaic Image Count: null
Allow Raster Function: true
Allow Copy: true
Allow Analysis: true
Allow Compute TiePoints: false
Supports Statistics: false
Supports Advanced Queries: false
Use StandardizedQueries: true
Raster Type Infos:
Name: Raster Dataset
Description: Supports all ArcGIS Raster Datasets
Help:
Has Raster Attribute Table: false
Edit Fields Info: null
Ownership Based AccessControl For Rasters: null
Child Resources:
Info
Histograms
Statistics
Key Properties
Legend
Raster Function Infos
Supported Operations:
Export Image
Identify
Measure
Compute Histograms
Compute Statistics Histograms
Get Samples
Compute Class Statistics
Query Boundary
Compute Pixel Location
Compute Angles
Validate
Project