View In:
ArcGIS JavaScript
ArcGIS Online Map Viewer
ArcGIS Earth
ArcMap
View Footprint In:
ArcGIS Online Map Viewer
Service Description: Historical map showing the area from Fort Mississauga to Fort George with: relief, cleared areas, roads/paths; Butler's barracks, Indian Council House, inns, Navy Hall, and the Engineers' establishment. It shows Fort George as rebuilt (south part in ruins) and encroachments near both forts.
[Sgd] Niagara March 24th 1819 Arthur Walpole Lieut R Engrs Henry Vavacour Capn Comg R1 Engineers.
Relief shown by hachures
Scale [ca. 1:3,887].
Map date: 1819
Digital reproduction of map (41 x 87 cm.) in the Public Archives of Canada. National Map Collection. Library and Archives Canada.
Georeferenced and modified from NMC Map number 22531 by Map, Data and GIS Library, Brock University.
Name: EarlyNiagara/NiagaraontheLake1819NMC22531
Description: Historical map showing the area from Fort Mississauga to Fort George with: relief, cleared areas, roads/paths; Butler's barracks, Indian Council House, inns, Navy Hall, and the Engineers' establishment. It shows Fort George as rebuilt (south part in ruins) and encroachments near both forts.
[Sgd] Niagara March 24th 1819 Arthur Walpole Lieut R Engrs Henry Vavacour Capn Comg R1 Engineers.
Relief shown by hachures
Scale [ca. 1:3,887].
Map date: 1819
Digital reproduction of map (41 x 87 cm.) in the Public Archives of Canada. National Map Collection. Library and Archives Canada.
Georeferenced and modified from NMC Map number 22531 by Map, Data and GIS Library, Brock University.
Single Fused Map Cache: false
Extent:
XMin: 654917.7149287271
YMin: 4789178.921653237
XMax: 658356.0678287272
YMax: 4792065.120853237
Spatial Reference: 26917
(26917)
Initial Extent:
XMin: 654917.7149287271
YMin: 4789178.921653237
XMax: 658356.0678287272
YMax: 4792065.120853237
Spatial Reference: 26917
(26917)
Full Extent:
XMin: 654917.7149287271
YMin: 4789178.921653237
XMax: 658356.0678287272
YMax: 4792065.120853237
Spatial Reference: 26917
(26917)
Pixel Size X: 0.6465500000000106
Pixel Size Y: 0.6465499999999289
Band Count: 1
Pixel Type: U16
RasterFunction Infos: {"rasterFunctionInfos": [{
"name": "None",
"description": "",
"help": ""
}]}
Mensuration Capabilities: Basic
Has Histograms: true
Has Colormap: false
Has Multi Dimensions : false
Rendering Rule:
Min Scale: 0
Max Scale: 0
Copyright Text: ["Sgd"]
Service Data Type: esriImageServiceDataTypeGeneric
Min Values: 17
Max Values: 248
Mean Values: 191.33508128346
Standard Deviation Values: 24.528107840031
Object ID Field:
Fields:
None
Default Mosaic Method: Center
Allowed Mosaic Methods:
SortField:
SortValue: null
Mosaic Operator: First
Default Compression Quality: 75
Default Resampling Method: Bilinear
Max Record Count: null
Max Image Height: 4100
Max Image Width: 15000
Max Download Image Count: null
Max Mosaic Image Count: null
Allow Raster Function: true
Allow Copy: true
Allow Analysis: true
Allow Compute TiePoints: false
Supports Statistics: false
Supports Advanced Queries: false
Use StandardizedQueries: true
Raster Type Infos:
Name: Raster Dataset
Description: Supports all ArcGIS Raster Datasets
Help:
Has Raster Attribute Table: false
Edit Fields Info: null
Ownership Based AccessControl For Rasters: null
Child Resources:
Info
Histograms
Statistics
Key Properties
Legend
Raster Function Infos
Supported Operations:
Export Image
Identify
Measure
Compute Histograms
Compute Statistics Histograms
Get Samples
Compute Class Statistics
Query Boundary
Compute Pixel Location
Compute Angles
Validate
Project