View In:
ArcGIS JavaScript
ArcGIS Online Map Viewer
ArcGIS Earth
ArcMap
View Footprint In:
ArcGIS Online Map Viewer
Service Description: Historical map showing the 3 forts, streets (unnamed), buildings, treed areas, Indian Council House, Butlers Barracks, boundary of Military Reserve.
"(signed) Henry Vavasour, Capn Comg Royal Engr, Niagara Frontier. Royal Engineers Office Quebec Novr 19 - 1818."
"Memo - The numbers from 1 to 29 has reference to the detached plans sections and elevations fo public buildings - Aug. 21 - 1823."
Relief shown by hachures
Scale [1:3,600]. 100 yds to an in.
Map date: 1823.
Digital reproduction of map (83 x 107 cm.) in the Public Archives of Canada. National Map Collection. Library and Archives Canada.
Georeferenced and modified from NMC Map number 15014 by Map, Data and GIS Library, Brock University.
Name: EarlyNiagara/NiagaraontheLake1823NMC15014
Description: Historical map showing the 3 forts, streets (unnamed), buildings, treed areas, Indian Council House, Butlers Barracks, boundary of Military Reserve.
"(signed) Henry Vavasour, Capn Comg Royal Engr, Niagara Frontier. Royal Engineers Office Quebec Novr 19 - 1818."
"Memo - The numbers from 1 to 29 has reference to the detached plans sections and elevations fo public buildings - Aug. 21 - 1823."
Relief shown by hachures
Scale [1:3,600]. 100 yds to an in.
Map date: 1823.
Digital reproduction of map (83 x 107 cm.) in the Public Archives of Canada. National Map Collection. Library and Archives Canada.
Georeferenced and modified from NMC Map number 15014 by Map, Data and GIS Library, Brock University.
Single Fused Map Cache: false
Extent:
XMin: 654035.4358629148
YMin: 4788575.614694188
XMax: 658953.6673749147
YMax: 4793312.156411189
Spatial Reference: 26917
(26917)
Initial Extent:
XMin: 654035.4358629148
YMin: 4788575.614694188
XMax: 658953.6673749147
YMax: 4793312.156411189
Spatial Reference: 26917
(26917)
Full Extent:
XMin: 654035.4358629148
YMin: 4788575.614694188
XMax: 658953.6673749147
YMax: 4793312.156411189
Spatial Reference: 26917
(26917)
Pixel Size X: 0.7415909999999953
Pixel Size Y: 0.7415910000000479
Band Count: 1
Pixel Type: U16
RasterFunction Infos: {"rasterFunctionInfos": [{
"name": "None",
"description": "",
"help": ""
}]}
Mensuration Capabilities: Basic
Has Histograms: true
Has Colormap: false
Has Multi Dimensions : false
Rendering Rule:
Min Scale: 0
Max Scale: 0
Copyright Text: ["cartography"]
Service Data Type: esriImageServiceDataTypeGeneric
Min Values: 4
Max Values: 255
Mean Values: 174.57827576539
Standard Deviation Values: 22.430864572756
Object ID Field:
Fields:
None
Default Mosaic Method: Center
Allowed Mosaic Methods:
SortField:
SortValue: null
Mosaic Operator: First
Default Compression Quality: 75
Default Resampling Method: Bilinear
Max Record Count: null
Max Image Height: 4100
Max Image Width: 15000
Max Download Image Count: null
Max Mosaic Image Count: null
Allow Raster Function: true
Allow Copy: true
Allow Analysis: true
Allow Compute TiePoints: false
Supports Statistics: false
Supports Advanced Queries: false
Use StandardizedQueries: true
Raster Type Infos:
Name: Raster Dataset
Description: Supports all ArcGIS Raster Datasets
Help:
Has Raster Attribute Table: false
Edit Fields Info: null
Ownership Based AccessControl For Rasters: null
Child Resources:
Info
Histograms
Statistics
Key Properties
Legend
Raster Function Infos
Supported Operations:
Export Image
Identify
Measure
Compute Histograms
Compute Statistics Histograms
Get Samples
Compute Class Statistics
Query Boundary
Compute Pixel Location
Compute Angles
Validate
Project