View In:
ArcGIS JavaScript
ArcGIS Online Map Viewer
ArcGIS Earth
ArcMap
View Footprint In:
ArcGIS Online Map Viewer
Service Description: Historical map showing 26 town blocks, divided up into lots with only a few numbered. King St, Gage St, Johnson St., Queen St., and Prideau St. identified. Gives a list of lots near market square shewing the annual rent paid for each to the Magistrates.
Original map date: 1819.
Additional text: "Taken from land petitions B2 No. 92. 1842."
Digital reproduction of map (14 1/2 x 9 1/4 in.) in the Public Archives of Canada. National Map Collection. Library and Archives Canada.
Georeferenced and modified from NMC Map number 19555 by Map, Data and GIS Library, Brock University.
Name: EarlyNiagara/NiagaraontheLake1829NMC19555
Description: Historical map showing 26 town blocks, divided up into lots with only a few numbered. King St, Gage St, Johnson St., Queen St., and Prideau St. identified. Gives a list of lots near market square shewing the annual rent paid for each to the Magistrates.
Original map date: 1819.
Additional text: "Taken from land petitions B2 No. 92. 1842."
Digital reproduction of map (14 1/2 x 9 1/4 in.) in the Public Archives of Canada. National Map Collection. Library and Archives Canada.
Georeferenced and modified from NMC Map number 19555 by Map, Data and GIS Library, Brock University.
Single Fused Map Cache: false
Extent:
XMin: 655229.6073119907
YMin: 4789998.176488896
XMax: 656830.7743279907
YMax: 4791745.523084896
Spatial Reference: 26917
(26917)
Initial Extent:
XMin: 655229.6073119907
YMin: 4789998.176488896
XMax: 656830.7743279907
YMax: 4791745.523084896
Spatial Reference: 26917
(26917)
Full Extent:
XMin: 655229.6073119907
YMin: 4789998.176488896
XMax: 656830.7743279907
YMax: 4791745.523084896
Spatial Reference: 26917
(26917)
Pixel Size X: 0.4004920000000053
Pixel Size Y: 0.40049199999995067
Band Count: 1
Pixel Type: U16
RasterFunction Infos: {"rasterFunctionInfos": [{
"name": "None",
"description": "",
"help": ""
}]}
Mensuration Capabilities: Basic
Has Histograms: true
Has Colormap: false
Has Multi Dimensions : false
Rendering Rule:
Min Scale: 0
Max Scale: 0
Copyright Text: ["signed"]
Service Data Type: esriImageServiceDataTypeGeneric
Min Values: 0
Max Values: 255
Mean Values: 191.50686113827
Standard Deviation Values: 28.737338157768
Object ID Field:
Fields:
None
Default Mosaic Method: Center
Allowed Mosaic Methods:
SortField:
SortValue: null
Mosaic Operator: First
Default Compression Quality: 75
Default Resampling Method: Bilinear
Max Record Count: null
Max Image Height: 4100
Max Image Width: 15000
Max Download Image Count: null
Max Mosaic Image Count: null
Allow Raster Function: true
Allow Copy: true
Allow Analysis: true
Allow Compute TiePoints: false
Supports Statistics: false
Supports Advanced Queries: false
Use StandardizedQueries: true
Raster Type Infos:
Name: Raster Dataset
Description: Supports all ArcGIS Raster Datasets
Help:
Has Raster Attribute Table: false
Edit Fields Info: null
Ownership Based AccessControl For Rasters: null
Child Resources:
Info
Histograms
Statistics
Key Properties
Legend
Raster Function Infos
Supported Operations:
Export Image
Identify
Measure
Compute Histograms
Compute Statistics Histograms
Get Samples
Compute Class Statistics
Query Boundary
Compute Pixel Location
Compute Angles
Validate
Project