View In:
ArcGIS JavaScript
ArcGIS Online Map Viewer
ArcGIS Earth
ArcMap
View Footprint In:
ArcGIS Online Map Viewer
Service Description: Historical map of Niagara-on-the-Lake showing lot numbers, buildings, Fort George and Fort Mississauga.
Signed by Col. Gust. Nicolls.
Digital reproduction of map (43 x 79 cm.) in the Public Archives of Canada. National Map Collection. Library and Archives Canada.
Relief shown by hachures.
Georeferenced and modified from NMC Map number 22539 by Map, Data and GIS Library, Brock University.
Name: EarlyNiagara/NiagaraontheLake1833NMC22539
Description: Historical map of Niagara-on-the-Lake showing lot numbers, buildings, Fort George and Fort Mississauga.
Signed by Col. Gust. Nicolls.
Digital reproduction of map (43 x 79 cm.) in the Public Archives of Canada. National Map Collection. Library and Archives Canada.
Relief shown by hachures.
Georeferenced and modified from NMC Map number 22539 by Map, Data and GIS Library, Brock University.
Single Fused Map Cache: false
Extent:
XMin: -8804215.19721234
YMin: 5348308.375196749
XMax: -8799639.98098234
YMax: 5352500.33684075
Spatial Reference: 102100
(3857)
Initial Extent:
XMin: -8804215.19721234
YMin: 5348308.375196749
XMax: -8799639.98098234
YMax: 5352500.33684075
Spatial Reference: 102100
(3857)
Full Extent:
XMin: -8804215.19721234
YMin: 5348308.375196749
XMax: -8799639.98098234
YMax: 5352500.33684075
Spatial Reference: 102100
(3857)
Pixel Size X: 0.9168769999998874
Pixel Size Y: 0.9168770000000818
Band Count: 1
Pixel Type: U16
RasterFunction Infos: {"rasterFunctionInfos": [{
"name": "None",
"description": "",
"help": ""
}]}
Mensuration Capabilities: Basic
Has Histograms: true
Has Colormap: false
Has Multi Dimensions : false
Rendering Rule:
Min Scale: 0
Max Scale: 0
Copyright Text: Map, Data & GIS Library, Brock University.
Service Data Type: esriImageServiceDataTypeGeneric
Min Values: 26
Max Values: 255
Mean Values: 190.99668065258
Standard Deviation Values: 53.073469698637
Object ID Field:
Fields:
None
Default Mosaic Method: Center
Allowed Mosaic Methods:
SortField:
SortValue: null
Mosaic Operator: First
Default Compression Quality: 75
Default Resampling Method: Bilinear
Max Record Count: null
Max Image Height: 4100
Max Image Width: 15000
Max Download Image Count: null
Max Mosaic Image Count: null
Allow Raster Function: true
Allow Copy: true
Allow Analysis: true
Allow Compute TiePoints: false
Supports Statistics: false
Supports Advanced Queries: false
Use StandardizedQueries: true
Raster Type Infos:
Name: Raster Dataset
Description: Supports all ArcGIS Raster Datasets
Help:
Has Raster Attribute Table: false
Edit Fields Info: null
Ownership Based AccessControl For Rasters: null
Child Resources:
Info
Histograms
Statistics
Key Properties
Legend
Raster Function Infos
Supported Operations:
Export Image
Identify
Measure
Compute Histograms
Compute Statistics Histograms
Get Samples
Compute Class Statistics
Query Boundary
Compute Pixel Location
Compute Angles
Validate
Project