View In:
ArcGIS JavaScript
ArcGIS Online Map Viewer
ArcGIS Earth
ArcMap
View Footprint In:
ArcGIS Online Map Viewer
Service Description: Historical map showing the town of Niagara (NOTL), military buildings and forts, and all reserves (i.e. the Mississauga reserve). Land grants (i.e. church), Niagara Harbour and Dock Co., J. Crook's former lots, and the land to be leased south of Fort George are noted.
(signed) R.H. Bonny-castle Capn Royal Engineer's Westn Distr. 14th Decr 1835, T.G.W. Eaststaff Draugn.
Relief shown by hachures.
Digital reproduction of map (44 x 110 cm.) in the Public Archives of Canada. National Map Collection. Library and Archives Canada.
Georeferenced and modified from NMC Map number 14283 by Map, Data and GIS Library, Brock University.
Name: EarlyNiagara/NiagaraontheLake1835NMC14283
Description: Historical map showing the town of Niagara (NOTL), military buildings and forts, and all reserves (i.e. the Mississauga reserve). Land grants (i.e. church), Niagara Harbour and Dock Co., J. Crook's former lots, and the land to be leased south of Fort George are noted.
(signed) R.H. Bonny-castle Capn Royal Engineer's Westn Distr. 14th Decr 1835, T.G.W. Eaststaff Draugn.
Relief shown by hachures.
Digital reproduction of map (44 x 110 cm.) in the Public Archives of Canada. National Map Collection. Library and Archives Canada.
Georeferenced and modified from NMC Map number 14283 by Map, Data and GIS Library, Brock University.
Single Fused Map Cache: false
Extent:
XMin: -8805198.98603421
YMin: 5347988.430144112
XMax: -8799355.481079211
YMax: 5353074.095764112
Spatial Reference: 102100
(3857)
Initial Extent:
XMin: -8805198.98603421
YMin: 5347988.430144112
XMax: -8799355.481079211
YMax: 5353074.095764112
Spatial Reference: 102100
(3857)
Full Extent:
XMin: -8805198.98603421
YMin: 5347988.430144112
XMax: -8799355.481079211
YMax: 5353074.095764112
Spatial Reference: 102100
(3857)
Pixel Size X: 1.2526269999998527
Pixel Size Y: 1.252627000000025
Band Count: 1
Pixel Type: U16
RasterFunction Infos: {"rasterFunctionInfos": [{
"name": "None",
"description": "",
"help": ""
}]}
Mensuration Capabilities: Basic
Has Histograms: true
Has Colormap: false
Has Multi Dimensions : false
Rendering Rule:
Min Scale: 0
Max Scale: 0
Copyright Text: Map, Data & GIS Library, Brock University.
Service Data Type: esriImageServiceDataTypeGeneric
Min Values: 4
Max Values: 255
Mean Values: 167.11016963623
Standard Deviation Values: 36.609683808259
Object ID Field:
Fields:
None
Default Mosaic Method: Center
Allowed Mosaic Methods:
SortField:
SortValue: null
Mosaic Operator: First
Default Compression Quality: 75
Default Resampling Method: Bilinear
Max Record Count: null
Max Image Height: 4100
Max Image Width: 15000
Max Download Image Count: null
Max Mosaic Image Count: null
Allow Raster Function: true
Allow Copy: true
Allow Analysis: true
Allow Compute TiePoints: false
Supports Statistics: false
Supports Advanced Queries: false
Use StandardizedQueries: true
Raster Type Infos:
Name: Raster Dataset
Description: Supports all ArcGIS Raster Datasets
Help:
Has Raster Attribute Table: false
Edit Fields Info: null
Ownership Based AccessControl For Rasters: null
Child Resources:
Info
Histograms
Statistics
Key Properties
Legend
Raster Function Infos
Supported Operations:
Export Image
Identify
Measure
Compute Histograms
Compute Statistics Histograms
Get Samples
Compute Class Statistics
Query Boundary
Compute Pixel Location
Compute Angles
Validate
Project