View In:
ArcGIS JavaScript
ArcGIS Online Map Viewer
ArcGIS Earth
ArcMap
View Footprint In:
ArcGIS Online Map Viewer
Service Description: Historical map of the Town of Niagara showing lot numbers, landowners names, streets, Fort Mississauga.
"(Signed) F. H. Braddeley C. Royal Engineers, Western Dist. Royal Engineer Office, Toronto, 11th Nov. 1837 [signed] Geo. Houghton, Clerk of Works. R.H. Bonnycastle, Capt & Major. Com'g. Roy'l Engrs, U.C. (Copy) Jno. Sloane, Clerk of works, Kingston, 17th Nov 1837."
Digital reproduction of map (17 1/2 x 22 1/4 in.) in the Public Archives of Canada. National Map Collection. Library and Archives Canada.
Georeferenced and modified from NMC Map number 4211 by Map, Data and GIS Library, Brock University.
Name: EarlyNiagara/NiagaraontheLake1837NMC4211
Description: Historical map of the Town of Niagara showing lot numbers, landowners names, streets, Fort Mississauga.
"(Signed) F. H. Braddeley C. Royal Engineers, Western Dist. Royal Engineer Office, Toronto, 11th Nov. 1837 [signed] Geo. Houghton, Clerk of Works. R.H. Bonnycastle, Capt & Major. Com'g. Roy'l Engrs, U.C. (Copy) Jno. Sloane, Clerk of works, Kingston, 17th Nov 1837."
Digital reproduction of map (17 1/2 x 22 1/4 in.) in the Public Archives of Canada. National Map Collection. Library and Archives Canada.
Georeferenced and modified from NMC Map number 4211 by Map, Data and GIS Library, Brock University.
Single Fused Map Cache: false
Extent:
XMin: -8804820.583367491
YMin: 5349931.989325538
XMax: -8801135.73035149
YMax: 5353461.397831539
Spatial Reference: 102100
(3857)
Initial Extent:
XMin: -8804820.583367491
YMin: 5349931.989325538
XMax: -8801135.73035149
YMax: 5353461.397831539
Spatial Reference: 102100
(3857)
Full Extent:
XMin: -8804820.583367491
YMin: 5349931.989325538
XMax: -8801135.73035149
YMax: 5353461.397831539
Spatial Reference: 102100
(3857)
Pixel Size X: 0.8181290000000535
Pixel Size Y: 0.818129000000096
Band Count: 1
Pixel Type: U16
RasterFunction Infos: {"rasterFunctionInfos": [{
"name": "None",
"description": "",
"help": ""
}]}
Mensuration Capabilities: Basic
Has Histograms: true
Has Colormap: false
Has Multi Dimensions : false
Rendering Rule:
Min Scale: 0
Max Scale: 0
Copyright Text: Map, Data & GIS Library, Brock University.
Service Data Type: esriImageServiceDataTypeGeneric
Min Values: 13
Max Values: 254
Mean Values: 181.402584515
Standard Deviation Values: 42.858979192397
Object ID Field:
Fields:
None
Default Mosaic Method: Center
Allowed Mosaic Methods:
SortField:
SortValue: null
Mosaic Operator: First
Default Compression Quality: 75
Default Resampling Method: Bilinear
Max Record Count: null
Max Image Height: 4100
Max Image Width: 15000
Max Download Image Count: null
Max Mosaic Image Count: null
Allow Raster Function: true
Allow Copy: true
Allow Analysis: true
Allow Compute TiePoints: false
Supports Statistics: false
Supports Advanced Queries: false
Use StandardizedQueries: true
Raster Type Infos:
Name: Raster Dataset
Description: Supports all ArcGIS Raster Datasets
Help:
Has Raster Attribute Table: false
Edit Fields Info: null
Ownership Based AccessControl For Rasters: null
Child Resources:
Info
Histograms
Statistics
Key Properties
Legend
Raster Function Infos
Supported Operations:
Export Image
Identify
Measure
Compute Histograms
Compute Statistics Histograms
Get Samples
Compute Class Statistics
Query Boundary
Compute Pixel Location
Compute Angles
Validate
Project