View In:
ArcGIS JavaScript
ArcGIS Online Map Viewer
ArcGIS Earth
ArcMap
View Footprint In:
ArcGIS Online Map Viewer
Service Description: Map date: 1845
Scale [ca. 1:3,960]
Digital reproduction of map (42 x 67 cm.) in the Archives of Ontario.
Archives of Ontario ref. no. C295-1-102-0-9 (1 of 2) - written on verso.
Georeferenced and modified from Brock Call # G 3464 N55 1845 P43, by Map, Data and GIS Library, Brock University.
Name: EarlyNiagara/NiagaraontheLake1845
Description: Map date: 1845
Scale [ca. 1:3,960]
Digital reproduction of map (42 x 67 cm.) in the Archives of Ontario.
Archives of Ontario ref. no. C295-1-102-0-9 (1 of 2) - written on verso.
Georeferenced and modified from Brock Call # G 3464 N55 1845 P43, by Map, Data and GIS Library, Brock University.
Single Fused Map Cache: false
Extent:
XMin: -8806859.7045756
YMin: 5346868.057744994
XMax: -8799492.3711776
YMax: 5353651.408819994
Spatial Reference: 102100
(3857)
Initial Extent:
XMin: -8806859.7045756
YMin: 5346868.057744994
XMax: -8799492.3711776
YMax: 5353651.408819994
Spatial Reference: 102100
(3857)
Full Extent:
XMin: -8806859.7045756
YMin: 5346868.057744994
XMax: -8799492.3711776
YMax: 5353651.408819994
Spatial Reference: 102100
(3857)
Pixel Size X: 1.11660099999991
Pixel Size Y: 1.1166010000000213
Band Count: 1
Pixel Type: U16
RasterFunction Infos: {"rasterFunctionInfos": [{
"name": "None",
"description": "",
"help": ""
}]}
Mensuration Capabilities: Basic
Has Histograms: true
Has Colormap: false
Has Multi Dimensions : false
Rendering Rule:
Min Scale: 0
Max Scale: 0
Copyright Text: Unknown author
Map, Data & GIS Library, Brock University.
Service Data Type: esriImageServiceDataTypeGeneric
Min Values: 0
Max Values: 217
Mean Values: 200.49898768546
Standard Deviation Values: 52.795800699155
Object ID Field:
Fields:
None
Default Mosaic Method: Center
Allowed Mosaic Methods:
SortField:
SortValue: null
Mosaic Operator: First
Default Compression Quality: 75
Default Resampling Method: Bilinear
Max Record Count: null
Max Image Height: 4100
Max Image Width: 15000
Max Download Image Count: null
Max Mosaic Image Count: null
Allow Raster Function: true
Allow Copy: true
Allow Analysis: true
Allow Compute TiePoints: false
Supports Statistics: false
Supports Advanced Queries: false
Use StandardizedQueries: true
Raster Type Infos:
Name: Raster Dataset
Description: Supports all ArcGIS Raster Datasets
Help:
Has Raster Attribute Table: false
Edit Fields Info: null
Ownership Based AccessControl For Rasters: null
Child Resources:
Info
Histograms
Statistics
Key Properties
Legend
Raster Function Infos
Supported Operations:
Export Image
Identify
Measure
Compute Histograms
Compute Statistics Histograms
Get Samples
Compute Class Statistics
Query Boundary
Compute Pixel Location
Compute Angles
Validate
Project