View In:
ArcGIS JavaScript
ArcGIS Online Map Viewer
ArcGIS Earth
ArcMap
View Footprint In:
ArcGIS Online Map Viewer
Service Description: Historical map showing the village of Niagara (NOTL). The ruins of Old Fort George, the layout of (the new) Fort George, Fort Mississauga, and the Old Guard house are depicted. Several land grants to individuals and religious organizations are noted. Shaded areas show the land given to the Niagara Harbour and Dock Company by Act of Parliament.
Relief shown by hachures and shading
Scale [ca. 1:4,960]
Map date 1851.
Digital reproduction of map (26 x 53 cm.) in the Public Archives of Canada. National Map Collection. Library and Archives Canada.
Georeferenced and modified from NMC Map number 4212 by Map, Data and GIS Library, Brock University.
Name: EarlyNiagara/NiagaraontheLake1851NMC4212
Description: Historical map showing the village of Niagara (NOTL). The ruins of Old Fort George, the layout of (the new) Fort George, Fort Mississauga, and the Old Guard house are depicted. Several land grants to individuals and religious organizations are noted. Shaded areas show the land given to the Niagara Harbour and Dock Company by Act of Parliament.
Relief shown by hachures and shading
Scale [ca. 1:4,960]
Map date 1851.
Digital reproduction of map (26 x 53 cm.) in the Public Archives of Canada. National Map Collection. Library and Archives Canada.
Georeferenced and modified from NMC Map number 4212 by Map, Data and GIS Library, Brock University.
Single Fused Map Cache: false
Extent:
XMin: 654698.7434786783
YMin: 4789042.457998845
XMax: 658299.4540066783
YMax: 4792278.843585845
Spatial Reference: 26917
(26917)
Initial Extent:
XMin: 654698.7434786783
YMin: 4789042.457998845
XMax: 658299.4540066783
YMax: 4792278.843585845
Spatial Reference: 26917
(26917)
Full Extent:
XMin: 654698.7434786783
YMin: 4789042.457998845
XMax: 658299.4540066783
YMax: 4792278.843585845
Spatial Reference: 26917
(26917)
Pixel Size X: 0.6861110000000048
Pixel Size Y: 0.6861110000000611
Band Count: 1
Pixel Type: U16
RasterFunction Infos: {"rasterFunctionInfos": [{
"name": "None",
"description": "",
"help": ""
}]}
Mensuration Capabilities: Basic
Has Histograms: true
Has Colormap: false
Has Multi Dimensions : false
Rendering Rule:
Min Scale: 0
Max Scale: 0
Copyright Text: ["signed"]
Service Data Type: esriImageServiceDataTypeGeneric
Min Values: 17
Max Values: 247
Mean Values: 198.52257362663
Standard Deviation Values: 28.387760480899
Object ID Field:
Fields:
None
Default Mosaic Method: Center
Allowed Mosaic Methods:
SortField:
SortValue: null
Mosaic Operator: First
Default Compression Quality: 75
Default Resampling Method: Bilinear
Max Record Count: null
Max Image Height: 4100
Max Image Width: 15000
Max Download Image Count: null
Max Mosaic Image Count: null
Allow Raster Function: true
Allow Copy: true
Allow Analysis: true
Allow Compute TiePoints: false
Supports Statistics: false
Supports Advanced Queries: false
Use StandardizedQueries: true
Raster Type Infos:
Name: Raster Dataset
Description: Supports all ArcGIS Raster Datasets
Help:
Has Raster Attribute Table: false
Edit Fields Info: null
Ownership Based AccessControl For Rasters: null
Child Resources:
Info
Histograms
Statistics
Key Properties
Legend
Raster Function Infos
Supported Operations:
Export Image
Identify
Measure
Compute Histograms
Compute Statistics Histograms
Get Samples
Compute Class Statistics
Query Boundary
Compute Pixel Location
Compute Angles
Validate
Project