View In:
ArcGIS JavaScript
ArcGIS Online Map Viewer
ArcGIS Earth
ArcMap
View Footprint In:
ArcGIS Online Map Viewer
Service Description: Historical map showing streets, lot numbers, landowner's names and select buildings including Navy Hall, Butlers Barracks, hospital and Fort George.
"(signed) F.F. Passmore. Provincial Surveyor, Toronto. Niagara, August 26, 1852. Copy R. I. Pilkington, Draftsman, 25 Sept. 1852."
Digital reproduction of map (17 1/4 x 21 3/4 in.) in the Public Archives of Canada. National Map Collection. Library and Archives Canada.
Georeferenced and modified from NMC Map number 4216 by Map, Data and GIS Library, Brock University.
Name: EarlyNiagara/NiagaraontheLake1852NMC4216
Description: Historical map showing streets, lot numbers, landowner's names and select buildings including Navy Hall, Butlers Barracks, hospital and Fort George.
"(signed) F.F. Passmore. Provincial Surveyor, Toronto. Niagara, August 26, 1852. Copy R. I. Pilkington, Draftsman, 25 Sept. 1852."
Digital reproduction of map (17 1/4 x 21 3/4 in.) in the Public Archives of Canada. National Map Collection. Library and Archives Canada.
Georeferenced and modified from NMC Map number 4216 by Map, Data and GIS Library, Brock University.
Single Fused Map Cache: false
Extent:
XMin: -8803228.62944728
YMin: 5348299.354060565
XMax: -8799775.87251328
YMax: 5351711.695432565
Spatial Reference: 102100
(3857)
Initial Extent:
XMin: -8803228.62944728
YMin: 5348299.354060565
XMax: -8799775.87251328
YMax: 5351711.695432565
Spatial Reference: 102100
(3857)
Full Extent:
XMin: -8803228.62944728
YMin: 5348299.354060565
XMax: -8799775.87251328
YMax: 5351711.695432565
Spatial Reference: 102100
(3857)
Pixel Size X: 0.7924620000000411
Pixel Size Y: 0.7924620000000124
Band Count: 1
Pixel Type: U16
RasterFunction Infos: {"rasterFunctionInfos": [{
"name": "None",
"description": "",
"help": ""
}]}
Mensuration Capabilities: Basic
Has Histograms: true
Has Colormap: false
Has Multi Dimensions : false
Rendering Rule:
Min Scale: 0
Max Scale: 0
Copyright Text: Map, Data & GIS Library, Brock University.
Service Data Type: esriImageServiceDataTypeGeneric
Min Values: 0
Max Values: 254
Mean Values: 189.80882886477
Standard Deviation Values: 32.755267925514
Object ID Field:
Fields:
None
Default Mosaic Method: Center
Allowed Mosaic Methods:
SortField:
SortValue: null
Mosaic Operator: First
Default Compression Quality: 75
Default Resampling Method: Bilinear
Max Record Count: null
Max Image Height: 4100
Max Image Width: 15000
Max Download Image Count: null
Max Mosaic Image Count: null
Allow Raster Function: true
Allow Copy: true
Allow Analysis: true
Allow Compute TiePoints: false
Supports Statistics: false
Supports Advanced Queries: false
Use StandardizedQueries: true
Raster Type Infos:
Name: Raster Dataset
Description: Supports all ArcGIS Raster Datasets
Help:
Has Raster Attribute Table: false
Edit Fields Info: null
Ownership Based AccessControl For Rasters: null
Child Resources:
Info
Histograms
Statistics
Key Properties
Legend
Raster Function Infos
Supported Operations:
Export Image
Identify
Measure
Compute Histograms
Compute Statistics Histograms
Get Samples
Compute Class Statistics
Query Boundary
Compute Pixel Location
Compute Angles
Validate
Project