View In:
ArcGIS JavaScript
ArcGIS Online Map Viewer
ArcGIS Earth
ArcMap
View Footprint In:
ArcGIS Online Map Viewer
Service Description: Historical map showing boundaries, streets, lot and concession numbers, land owners, barracks, military reserve
Includes inset: Fort Mississaga
Relief shown by shading.
Digital reproduction of map (29 3/4 x 52 in.) in the Public Archives of Canada. National Map Collection. Library and Archives Canada.
Georeferenced and modified from NMC Map number 11403 by Map, Data and GIS Library, Brock University.
Name: EarlyNiagara/NiagaraontheLake1853NMC11403
Description: Historical map showing boundaries, streets, lot and concession numbers, land owners, barracks, military reserve
Includes inset: Fort Mississaga
Relief shown by shading.
Digital reproduction of map (29 3/4 x 52 in.) in the Public Archives of Canada. National Map Collection. Library and Archives Canada.
Georeferenced and modified from NMC Map number 11403 by Map, Data and GIS Library, Brock University.
Single Fused Map Cache: false
Extent:
XMin: 654263.2223614673
YMin: 4788322.32978933
XMax: 659108.0435614673
YMax: 4792630.87940133
Spatial Reference: 26917
(26917)
Initial Extent:
XMin: 654263.2223614673
YMin: 4788322.32978933
XMax: 659108.0435614673
YMax: 4792630.87940133
Spatial Reference: 26917
(26917)
Full Extent:
XMin: 654263.2223614673
YMin: 4788322.32978933
XMax: 659108.0435614673
YMax: 4792630.87940133
Spatial Reference: 26917
(26917)
Pixel Size X: 0.835314000000001
Pixel Size Y: 0.8353139999999328
Band Count: 1
Pixel Type: U16
RasterFunction Infos: {"rasterFunctionInfos": [{
"name": "None",
"description": "",
"help": ""
}]}
Mensuration Capabilities: Basic
Has Histograms: true
Has Colormap: false
Has Multi Dimensions : false
Rendering Rule:
Min Scale: 0
Max Scale: 0
Copyright Text: surveyed by F. F. Passmore Provl. Land Surveyor, ... verified by Lieut. Berdoe A. Wilkinson, Rl. Engrs. & Mr. Nelson Salker, Survr. & Dftsman. Rl. Engineer Dept.Map, Data & GIS Library, Brock University.
Service Data Type: esriImageServiceDataTypeGeneric
Min Values: 0
Max Values: 255
Mean Values: 206.6178853008
Standard Deviation Values: 27.132976768117
Object ID Field:
Fields:
None
Default Mosaic Method: Center
Allowed Mosaic Methods:
SortField:
SortValue: null
Mosaic Operator: First
Default Compression Quality: 75
Default Resampling Method: Bilinear
Max Record Count: null
Max Image Height: 4100
Max Image Width: 15000
Max Download Image Count: null
Max Mosaic Image Count: null
Allow Raster Function: true
Allow Copy: true
Allow Analysis: true
Allow Compute TiePoints: false
Supports Statistics: false
Supports Advanced Queries: false
Use StandardizedQueries: true
Raster Type Infos:
Name: Raster Dataset
Description: Supports all ArcGIS Raster Datasets
Help:
Has Raster Attribute Table: false
Edit Fields Info: null
Ownership Based AccessControl For Rasters: null
Child Resources:
Info
Histograms
Statistics
Key Properties
Legend
Raster Function Infos
Supported Operations:
Export Image
Identify
Measure
Compute Histograms
Compute Statistics Histograms
Get Samples
Compute Class Statistics
Query Boundary
Compute Pixel Location
Compute Angles
Validate
Project