View In:
ArcGIS JavaScript
ArcGIS Online Map Viewer
ArcGIS Earth
ArcMap
View Footprint In:
ArcGIS Online Map Viewer
Service Description: Historical map showing forts, streets and buildings.
Relief shown by shading.
Scale [ca. 1:2,400] or 1 in to 200 ft.
Map date: 1853
Digital reproduction of map (54 x 85 cm.) in the Public Archives of Canada. National Map Collection. Library and Archives Canada.
Georeferenced and modified from NMC Map number 22533 by Map, Data and GIS Library, Brock University.
Name: EarlyNiagara/NiagaraontheLake1853NMC22533
Description: Historical map showing forts, streets and buildings.
Relief shown by shading.
Scale [ca. 1:2,400] or 1 in to 200 ft.
Map date: 1853
Digital reproduction of map (54 x 85 cm.) in the Public Archives of Canada. National Map Collection. Library and Archives Canada.
Georeferenced and modified from NMC Map number 22533 by Map, Data and GIS Library, Brock University.
Single Fused Map Cache: false
Extent:
XMin: 655578.2372477293
YMin: 4790553.057214307
XMax: 658014.6220997294
YMax: 4792726.892086307
Spatial Reference: 26917
(26917)
Initial Extent:
XMin: 655578.2372477293
YMin: 4790553.057214307
XMax: 658014.6220997294
YMax: 4792726.892086307
Spatial Reference: 26917
(26917)
Full Extent:
XMin: 655578.2372477293
YMin: 4790553.057214307
XMax: 658014.6220997294
YMax: 4792726.892086307
Spatial Reference: 26917
(26917)
Pixel Size X: 0.39481200000000755
Pixel Size Y: 0.39481199999998534
Band Count: 1
Pixel Type: U16
RasterFunction Infos: {"rasterFunctionInfos": [{
"name": "None",
"description": "",
"help": ""
}]}
Mensuration Capabilities: Basic
Has Histograms: true
Has Colormap: false
Has Multi Dimensions : false
Rendering Rule:
Min Scale: 0
Max Scale: 0
Copyright Text: ["signed"]
Service Data Type: esriImageServiceDataTypeGeneric
Min Values: 7
Max Values: 255
Mean Values: 196.5165528879
Standard Deviation Values: 22.98021448843
Object ID Field:
Fields:
None
Default Mosaic Method: Center
Allowed Mosaic Methods:
SortField:
SortValue: null
Mosaic Operator: First
Default Compression Quality: 75
Default Resampling Method: Bilinear
Max Record Count: null
Max Image Height: 4100
Max Image Width: 15000
Max Download Image Count: null
Max Mosaic Image Count: null
Allow Raster Function: true
Allow Copy: true
Allow Analysis: true
Allow Compute TiePoints: false
Supports Statistics: false
Supports Advanced Queries: false
Use StandardizedQueries: true
Raster Type Infos:
Name: Raster Dataset
Description: Supports all ArcGIS Raster Datasets
Help:
Has Raster Attribute Table: false
Edit Fields Info: null
Ownership Based AccessControl For Rasters: null
Child Resources:
Info
Histograms
Statistics
Key Properties
Legend
Raster Function Infos
Supported Operations:
Export Image
Identify
Measure
Compute Histograms
Compute Statistics Histograms
Get Samples
Compute Class Statistics
Query Boundary
Compute Pixel Location
Compute Angles
Validate
Project