View In:
ArcGIS JavaScript
ArcGIS Online Map Viewer
ArcGIS Earth
ArcMap
View Footprint In:
ArcGIS Online Map Viewer
Service Description: Historical map showing streets and buildings including Butlers Barracks, Dock Company land and "ruins at Fort George".
"Copied from the original by R.J. Beatson. Captain R.E., Quebec 12th April, 1853. (signed) F.F. Passmore, Provincial Land Surveyor, Toronto, March 24, 1853."
Digital reproduction of map (17 x 21 in.) in the Public Archives of Canada. National Map Collection. Library and Archives Canada.
Georeferenced and modified from NMC Map number 4214 by Map, Data and GIS Library, Brock University.
Name: EarlyNiagara/NiagaraontheLake1853NMC4214
Description: Historical map showing streets and buildings including Butlers Barracks, Dock Company land and "ruins at Fort George".
"Copied from the original by R.J. Beatson. Captain R.E., Quebec 12th April, 1853. (signed) F.F. Passmore, Provincial Land Surveyor, Toronto, March 24, 1853."
Digital reproduction of map (17 x 21 in.) in the Public Archives of Canada. National Map Collection. Library and Archives Canada.
Georeferenced and modified from NMC Map number 4214 by Map, Data and GIS Library, Brock University.
Single Fused Map Cache: false
Extent:
XMin: -8803305.77149215
YMin: 5348386.748690267
XMax: -8799767.56895015
YMax: 5351775.853556267
Spatial Reference: 102100
(3857)
Initial Extent:
XMin: -8803305.77149215
YMin: 5348386.748690267
XMax: -8799767.56895015
YMax: 5351775.853556267
Spatial Reference: 102100
(3857)
Full Extent:
XMin: -8803305.77149215
YMin: 5348386.748690267
XMax: -8799767.56895015
YMax: 5351775.853556267
Spatial Reference: 102100
(3857)
Pixel Size X: 0.8192179999998886
Pixel Size Y: 0.819217999999974
Band Count: 1
Pixel Type: U16
RasterFunction Infos: {"rasterFunctionInfos": [{
"name": "None",
"description": "",
"help": ""
}]}
Mensuration Capabilities: Basic
Has Histograms: true
Has Colormap: false
Has Multi Dimensions : false
Rendering Rule:
Min Scale: 0
Max Scale: 0
Copyright Text: Map, Data & GIS Library, Brock University.
Service Data Type: esriImageServiceDataTypeGeneric
Min Values: 0
Max Values: 254
Mean Values: 191.29912041117
Standard Deviation Values: 36.371007450763
Object ID Field:
Fields:
None
Default Mosaic Method: Center
Allowed Mosaic Methods:
SortField:
SortValue: null
Mosaic Operator: First
Default Compression Quality: 75
Default Resampling Method: Bilinear
Max Record Count: null
Max Image Height: 4100
Max Image Width: 15000
Max Download Image Count: null
Max Mosaic Image Count: null
Allow Raster Function: true
Allow Copy: true
Allow Analysis: true
Allow Compute TiePoints: false
Supports Statistics: false
Supports Advanced Queries: false
Use StandardizedQueries: true
Raster Type Infos:
Name: Raster Dataset
Description: Supports all ArcGIS Raster Datasets
Help:
Has Raster Attribute Table: false
Edit Fields Info: null
Ownership Based AccessControl For Rasters: null
Child Resources:
Info
Histograms
Statistics
Key Properties
Legend
Raster Function Infos
Supported Operations:
Export Image
Identify
Measure
Compute Histograms
Compute Statistics Histograms
Get Samples
Compute Class Statistics
Query Boundary
Compute Pixel Location
Compute Angles
Validate
Project