View In:
ArcGIS JavaScript
ArcGIS Online Map Viewer
ArcGIS Earth
ArcMap
View Footprint In:
ArcGIS Online Map Viewer
Service Description: Historical map showing the garrison reserve around Fort George in Niagara (NOTL), the land that will be retained by the ordnance, and the land to be used for settlement or pasturage by the Pensioners. A proposed line for the Erie and Ontario Railroad across the garrison reserve is shown. The location of telegraph posts is marked. Property owners, military buildings, and some vegetation are noted.
Scale [ca. 1:2,932]
Map date 1853
Digital reproduction of map (44 x 56 cm.) in the Public Archives of Canada. National Map Collection. Library and Archives Canada.
Georeferenced and modified from NMC Map number 4215 by Map, Data and GIS Library, Brock University.
Name: EarlyNiagara/NiagaraontheLake1853NMC4215
Description: Historical map showing the garrison reserve around Fort George in Niagara (NOTL), the land that will be retained by the ordnance, and the land to be used for settlement or pasturage by the Pensioners. A proposed line for the Erie and Ontario Railroad across the garrison reserve is shown. The location of telegraph posts is marked. Property owners, military buildings, and some vegetation are noted.
Scale [ca. 1:2,932]
Map date 1853
Digital reproduction of map (44 x 56 cm.) in the Public Archives of Canada. National Map Collection. Library and Archives Canada.
Georeferenced and modified from NMC Map number 4215 by Map, Data and GIS Library, Brock University.
Single Fused Map Cache: false
Extent:
XMin: 655955.1778285076
YMin: 4789203.557976787
XMax: 658221.5191165076
YMax: 4791336.821688787
Spatial Reference: 26917
(26917)
Initial Extent:
XMin: 655955.1778285076
YMin: 4789203.557976787
XMax: 658221.5191165076
YMax: 4791336.821688787
Spatial Reference: 26917
(26917)
Full Extent:
XMin: 655955.1778285076
YMin: 4789203.557976787
XMax: 658221.5191165076
YMax: 4791336.821688787
Spatial Reference: 26917
(26917)
Pixel Size X: 0.3352079999999994
Pixel Size Y: 0.335208000000016
Band Count: 1
Pixel Type: U16
RasterFunction Infos: {"rasterFunctionInfos": [{
"name": "None",
"description": "",
"help": ""
}]}
Mensuration Capabilities: Basic
Has Histograms: true
Has Colormap: false
Has Multi Dimensions : false
Rendering Rule:
Min Scale: 0
Max Scale: 0
Copyright Text: ["signed"]
Service Data Type: esriImageServiceDataTypeGeneric
Min Values: 0
Max Values: 255
Mean Values: 192.10484042813
Standard Deviation Values: 36.085765262591
Object ID Field:
Fields:
None
Default Mosaic Method: Center
Allowed Mosaic Methods:
SortField:
SortValue: null
Mosaic Operator: First
Default Compression Quality: 75
Default Resampling Method: Bilinear
Max Record Count: null
Max Image Height: 4100
Max Image Width: 15000
Max Download Image Count: null
Max Mosaic Image Count: null
Allow Raster Function: true
Allow Copy: true
Allow Analysis: true
Allow Compute TiePoints: false
Supports Statistics: false
Supports Advanced Queries: false
Use StandardizedQueries: true
Raster Type Infos:
Name: Raster Dataset
Description: Supports all ArcGIS Raster Datasets
Help:
Has Raster Attribute Table: false
Edit Fields Info: null
Ownership Based AccessControl For Rasters: null
Child Resources:
Info
Histograms
Statistics
Key Properties
Legend
Raster Function Infos
Supported Operations:
Export Image
Identify
Measure
Compute Histograms
Compute Statistics Histograms
Get Samples
Compute Class Statistics
Query Boundary
Compute Pixel Location
Compute Angles
Validate
Project