View In:
ArcGIS JavaScript
ArcGIS Online Map Viewer
ArcGIS Earth
ArcMap
View Footprint In:
ArcGIS Online Map Viewer
Service Description: Map showing streets, buildings, military reserve, 'ruins of Fort George'.
Scale 1 inch to 100 feet
Map date: 1863
Digital reproduction of map (20 1/4 x 38 1/4 in.) in the Public Archives of Canada. National Map Collection. Library and Archives Canada.
Georeferenced and modified from NMC Map number 22534 by Map, Data and GIS Library, Brock University.
Name: EarlyNiagara/NiagaraontheLake1863NMC22534
Description: Map showing streets, buildings, military reserve, 'ruins of Fort George'.
Scale 1 inch to 100 feet
Map date: 1863
Digital reproduction of map (20 1/4 x 38 1/4 in.) in the Public Archives of Canada. National Map Collection. Library and Archives Canada.
Georeferenced and modified from NMC Map number 22534 by Map, Data and GIS Library, Brock University.
Single Fused Map Cache: false
Extent:
XMin: 656543.3859150066
YMin: 4790372.520532152
XMax: 657879.5987950066
YMax: 4791567.614432151
Spatial Reference: 26917
(26917)
Initial Extent:
XMin: 656543.3859150066
YMin: 4790372.520532152
XMax: 657879.5987950066
YMax: 4791567.614432151
Spatial Reference: 26917
(26917)
Full Extent:
XMin: 656543.3859150066
YMin: 4790372.520532152
XMax: 657879.5987950066
YMax: 4791567.614432151
Spatial Reference: 26917
(26917)
Pixel Size X: 0.23878000000000116
Pixel Size Y: 0.2387799999999491
Band Count: 1
Pixel Type: U16
RasterFunction Infos: {"rasterFunctionInfos": [{
"name": "None",
"description": "",
"help": ""
}]}
Mensuration Capabilities: Basic
Has Histograms: true
Has Colormap: false
Has Multi Dimensions : false
Rendering Rule:
Min Scale: 0
Max Scale: 0
Copyright Text: ["signed"]
Service Data Type: esriImageServiceDataTypeGeneric
Min Values: 18
Max Values: 241
Mean Values: 192.4480464346
Standard Deviation Values: 41.718127684127
Object ID Field:
Fields:
None
Default Mosaic Method: Center
Allowed Mosaic Methods:
SortField:
SortValue: null
Mosaic Operator: First
Default Compression Quality: 75
Default Resampling Method: Bilinear
Max Record Count: null
Max Image Height: 4100
Max Image Width: 15000
Max Download Image Count: null
Max Mosaic Image Count: null
Allow Raster Function: true
Allow Copy: true
Allow Analysis: true
Allow Compute TiePoints: false
Supports Statistics: false
Supports Advanced Queries: false
Use StandardizedQueries: true
Raster Type Infos:
Name: Raster Dataset
Description: Supports all ArcGIS Raster Datasets
Help:
Has Raster Attribute Table: false
Edit Fields Info: null
Ownership Based AccessControl For Rasters: null
Child Resources:
Info
Histograms
Statistics
Key Properties
Legend
Raster Function Infos
Supported Operations:
Export Image
Identify
Measure
Compute Histograms
Compute Statistics Histograms
Get Samples
Compute Class Statistics
Query Boundary
Compute Pixel Location
Compute Angles
Validate
Project