View In:
ArcGIS JavaScript
ArcGIS Online Map Viewer
ArcGIS Earth
ArcMap
View Footprint In:
ArcGIS Online Map Viewer
Service Description: Map date: 1894
Scale [ca.1:5,454]
Digital reproduction of map (65 x 56 cm.) in the Brock University Map, Data & GIS Library
Georeferenced and modified from Brock call # G 3464 N55 1894 J64, by Map, Data and GIS Library, Brock University.
Name: EarlyNiagara/NiagaraontheLake1894
Description: Map date: 1894
Scale [ca.1:5,454]
Digital reproduction of map (65 x 56 cm.) in the Brock University Map, Data & GIS Library
Georeferenced and modified from Brock call # G 3464 N55 1894 J64, by Map, Data and GIS Library, Brock University.
Single Fused Map Cache: false
Extent:
XMin: -8805176.811274411
YMin: 5347017.687112902
XMax: -8799779.85211941
YMax: 5355564.546937902
Spatial Reference: 102100
(3857)
Initial Extent:
XMin: -8805176.811274411
YMin: 5347017.687112902
XMax: -8799779.85211941
YMax: 5355564.546937902
Spatial Reference: 102100
(3857)
Full Extent:
XMin: -8805176.811274411
YMin: 5347017.687112902
XMax: -8799779.85211941
YMax: 5355564.546937902
Spatial Reference: 102100
(3857)
Pixel Size X: 0.6928950000000959
Pixel Size Y: 0.6928950000000136
Band Count: 3
Pixel Type: U16
RasterFunction Infos: {"rasterFunctionInfos": [{
"name": "None",
"description": "",
"help": ""
}]}
Mensuration Capabilities: Basic
Has Histograms: true
Has Colormap: false
Has Multi Dimensions : false
Rendering Rule:
Min Scale: 0
Max Scale: 0
Copyright Text: Drawn by B. Frank Johnson
Publisher: Duncan Lithographing
Map, Data & GIS Library, Brock University.
Service Data Type: esriImageServiceDataTypeGeneric
Min Values: 0, 0, 0
Max Values: 255, 255, 255
Mean Values: 173.81615139753, 139.24633091271, 116.90440507649
Standard Deviation Values: 51.672683857601, 43.919608604107, 39.723523488608
Object ID Field:
Fields:
None
Default Mosaic Method: Center
Allowed Mosaic Methods:
SortField:
SortValue: null
Mosaic Operator: First
Default Compression Quality: 75
Default Resampling Method: Bilinear
Max Record Count: null
Max Image Height: 4100
Max Image Width: 15000
Max Download Image Count: null
Max Mosaic Image Count: null
Allow Raster Function: true
Allow Copy: true
Allow Analysis: true
Allow Compute TiePoints: false
Supports Statistics: false
Supports Advanced Queries: false
Use StandardizedQueries: true
Raster Type Infos:
Name: Raster Dataset
Description: Supports all ArcGIS Raster Datasets
Help:
Has Raster Attribute Table: false
Edit Fields Info: null
Ownership Based AccessControl For Rasters: null
Child Resources:
Info
Histograms
Statistics
Key Properties
Legend
Raster Function Infos
Supported Operations:
Export Image
Identify
Measure
Compute Histograms
Compute Statistics Histograms
Get Samples
Compute Class Statistics
Query Boundary
Compute Pixel Location
Compute Angles
Validate
Project