View In:
ArcGIS JavaScript
ArcGIS Online Map Viewer
ArcGIS Earth
ArcMap
View Footprint In:
ArcGIS Online Map Viewer
Service Description: Historical map showing streets, lot numbers, boundaries, cultural and hydrological features.
"File H-38"--in top and bottom margins.
Scale [1:31,680]
Map date: 1961
Reproduction of map (45 x 43 cm.) in Map, Data and GIS Library's historical map collection
Georeferenced and modified from Brock call # G 3464 N55 G45 1961 N53 by Map, Data and GIS Library, Brock University.
Name: EarlyNiagara/NiagaraontheLake1961
Description: Historical map showing streets, lot numbers, boundaries, cultural and hydrological features.
"File H-38"--in top and bottom margins.
Scale [1:31,680]
Map date: 1961
Reproduction of map (45 x 43 cm.) in Map, Data and GIS Library's historical map collection
Georeferenced and modified from Brock call # G 3464 N55 G45 1961 N53 by Map, Data and GIS Library, Brock University.
Single Fused Map Cache: false
Extent:
XMin: 644438.924294521
YMin: 4776936.551702368
XMax: 659900.190455521
YMax: 4793630.048357368
Spatial Reference: 26917
(26917)
Initial Extent:
XMin: 644438.924294521
YMin: 4776936.551702368
XMax: 659900.190455521
YMax: 4793630.048357368
Spatial Reference: 26917
(26917)
Full Extent:
XMin: 644438.924294521
YMin: 4776936.551702368
XMax: 659900.190455521
YMax: 4793630.048357368
Spatial Reference: 26917
(26917)
Pixel Size X: 1.5364470000000008
Pixel Size Y: 1.5364470000000343
Band Count: 1
Pixel Type: U16
RasterFunction Infos: {"rasterFunctionInfos": [{
"name": "None",
"description": "",
"help": ""
}]}
Mensuration Capabilities: Basic
Has Histograms: true
Has Colormap: false
Has Multi Dimensions : false
Rendering Rule:
Min Scale: 0
Max Scale: 0
Copyright Text: Niagara Township Engineer
Map, Data & GIS Library, Brock University.
Service Data Type: esriImageServiceDataTypeGeneric
Min Values: 0
Max Values: 255
Mean Values: 207.43842020543
Standard Deviation Values: 61.154567798719
Object ID Field:
Fields:
None
Default Mosaic Method: Center
Allowed Mosaic Methods:
SortField:
SortValue: null
Mosaic Operator: First
Default Compression Quality: 75
Default Resampling Method: Bilinear
Max Record Count: null
Max Image Height: 4100
Max Image Width: 15000
Max Download Image Count: null
Max Mosaic Image Count: null
Allow Raster Function: true
Allow Copy: true
Allow Analysis: true
Allow Compute TiePoints: false
Supports Statistics: false
Supports Advanced Queries: false
Use StandardizedQueries: true
Raster Type Infos:
Name: Raster Dataset
Description: Supports all ArcGIS Raster Datasets
Help:
Has Raster Attribute Table: false
Edit Fields Info: null
Ownership Based AccessControl For Rasters: null
Child Resources:
Info
Histograms
Statistics
Key Properties
Legend
Raster Function Infos
Supported Operations:
Export Image
Identify
Measure
Compute Histograms
Compute Statistics Histograms
Get Samples
Compute Class Statistics
Query Boundary
Compute Pixel Location
Compute Angles
Validate
Project