View In:
ArcGIS JavaScript
ArcGIS Online Map Viewer
ArcGIS Earth
ArcMap
View Footprint In:
ArcGIS Online Map Viewer
Service Description: Map date: 1966Scale [1:7,402]Digital reproduction of map (42 x 56 cm.) in the Brock University Map, Data & GIS Library.Georeferenced and modified from Brock call # G 3464 N55 G45 1966 P55, by Map, Data and GIS Library, Brock University.
Name: EarlyNiagara/NiagaraontheLake1966
Description: Map date: 1966Scale [1:7,402]Digital reproduction of map (42 x 56 cm.) in the Brock University Map, Data & GIS Library.Georeferenced and modified from Brock call # G 3464 N55 G45 1966 P55, by Map, Data and GIS Library, Brock University.
Single Fused Map Cache: false
Extent:
XMin: -8806638.265517887
YMin: 5345936.708752455
XMax: -8798829.934267886
YMax: 5353531.404059455
Spatial Reference: 102100
(3857)
Initial Extent:
XMin: -8806638.265517887
YMin: 5345936.708752455
XMax: -8798829.934267886
YMax: 5353531.404059455
Spatial Reference: 102100
(3857)
Full Extent:
XMin: -8806638.265517887
YMin: 5345936.708752455
XMax: -8798829.934267886
YMax: 5353531.404059455
Spatial Reference: 102100
(3857)
Pixel Size X: 1.2493330000001193
Pixel Size Y: 1.2493329999999356
Band Count: 1
Pixel Type: U16
RasterFunction Infos: {"rasterFunctionInfos": [{
"name": "None",
"description": "",
"help": ""
}]}
Mensuration Capabilities: Basic
Has Histograms: true
Has Colormap: false
Has Multi Dimensions : false
Rendering Rule:
Min Scale: 0
Max Scale: 0
Copyright Text: "Survey under instructions from the Department of Lands, Forests and Mines, dated 12th of June & 5th of October 1909 and 10th 1910."
Revised Aug. 1966 [by Niagara-on-the-Lake Planning Board].
Map, Data & GIS Library, Brock University.
Service Data Type: esriImageServiceDataTypeGeneric
Min Values: 0
Max Values: 255
Mean Values: 242.95489285463
Standard Deviation Values: 49.185224900789
Object ID Field:
Fields:
None
Default Mosaic Method: Center
Allowed Mosaic Methods:
SortField:
SortValue: null
Mosaic Operator: First
Default Compression Quality: 75
Default Resampling Method: Bilinear
Max Record Count: null
Max Image Height: 4100
Max Image Width: 15000
Max Download Image Count: null
Max Mosaic Image Count: null
Allow Raster Function: true
Allow Copy: true
Allow Analysis: true
Allow Compute TiePoints: false
Supports Statistics: false
Supports Advanced Queries: false
Use StandardizedQueries: true
Raster Type Infos:
Name: Raster Dataset
Description: Supports all ArcGIS Raster Datasets
Help:
Has Raster Attribute Table: false
Edit Fields Info: null
Ownership Based AccessControl For Rasters: null
Child Resources:
Info
Histograms
Statistics
Key Properties
Legend
Raster Function Infos
Supported Operations:
Export Image
Identify
Measure
Compute Histograms
Compute Statistics Histograms
Get Samples
Compute Class Statistics
Query Boundary
Compute Pixel Location
Compute Angles
Validate
Project