View In:
ArcGIS JavaScript
ArcGIS Online Map Viewer
ArcGIS Earth
ArcMap
View Footprint In:
ArcGIS Online Map Viewer
Service Description: Shows oil fields, natural gas fields, natural gas pipe lines, compressor stations, main highways and county and township boundaries. Legend shows general geological divisions. Includes insets of 8 major fields at various scales with depth contours & survey grid, and a list of fields.
Name: EarlyNiagara/OilGasSWontario1953
Description: Shows oil fields, natural gas fields, natural gas pipe lines, compressor stations, main highways and county and township boundaries. Legend shows general geological divisions. Includes insets of 8 major fields at various scales with depth contours & survey grid, and a list of fields.
Single Fused Map Cache: false
Extent:
XMin: 316051.9475136781
YMin: 4610201.482040502
XMax: 686621.7611362904
YMax: 4879038.845677781
Spatial Reference: 26917
(26917)
Initial Extent:
XMin: 316051.9475136781
YMin: 4610201.482040502
XMax: 686621.7611362904
YMax: 4879038.845677781
Spatial Reference: 26917
(26917)
Full Extent:
XMin: 316051.9475136781
YMin: 4610201.482040502
XMax: 686621.7611362904
YMax: 4879038.845677781
Spatial Reference: 26917
(26917)
Pixel Size X: 32.443513712363185
Pixel Size Y: 32.39394669686454
Band Count: 3
Pixel Type: U8
RasterFunction Infos: {"rasterFunctionInfos": [{
"name": "None",
"description": "",
"help": ""
}]}
Mensuration Capabilities: Basic
Has Histograms: true
Has Colormap: false
Has Multi Dimensions : false
Rendering Rule:
Min Scale: 0
Max Scale: 0
Copyright Text: Brock University Map, Data & GIS Library
Service Data Type: esriImageServiceDataTypeRGB
Min Values: 0, 0, 0
Max Values: 255, 255, 255
Mean Values: 208.47966423638, 211.58635089438, 195.94627075945
Standard Deviation Values: 50.71231003422, 50.991454805925, 51.705751387799
Object ID Field:
Fields:
None
Default Mosaic Method: Center
Allowed Mosaic Methods:
SortField:
SortValue: null
Mosaic Operator: First
Default Compression Quality: 75
Default Resampling Method: Bilinear
Max Record Count: null
Max Image Height: 4100
Max Image Width: 15000
Max Download Image Count: null
Max Mosaic Image Count: null
Allow Raster Function: true
Allow Copy: true
Allow Analysis: true
Allow Compute TiePoints: false
Supports Statistics: false
Supports Advanced Queries: false
Use StandardizedQueries: true
Raster Type Infos:
Name: Raster Dataset
Description: Supports all ArcGIS Raster Datasets
Help:
Has Raster Attribute Table: false
Edit Fields Info: null
Ownership Based AccessControl For Rasters: null
Child Resources:
Info
Histograms
Statistics
Key Properties
Legend
Raster Function Infos
Supported Operations:
Export Image
Identify
Measure
Compute Histograms
Compute Statistics Histograms
Get Samples
Compute Class Statistics
Query Boundary
Compute Pixel Location
Compute Angles
Validate
Project