View In:
ArcGIS JavaScript
ArcGIS Online Map Viewer
ArcGIS Earth
ArcMap
View Footprint In:
ArcGIS Online Map Viewer
Service Description: Historical map showing streets, lot numbers and measurements, the first Welland Canal, towing path, back water and creeks. Oriented with north to the right. "Filed by Board of Works Dept., Oct 11th 1852 at 3 pm, [signed] J.C. Page" Photoreproduction. Described in: Mapping Upper Canada, 1780-1867 / Joan Winearls. 1991. Reference no.: B2013
Name: EarlyNiagara/PortRobinson1852
Description: Historical map showing streets, lot numbers and measurements, the first Welland Canal, towing path, back water and creeks. Oriented with north to the right. "Filed by Board of Works Dept., Oct 11th 1852 at 3 pm, [signed] J.C. Page" Photoreproduction. Described in: Mapping Upper Canada, 1780-1867 / Joan Winearls. 1991. Reference no.: B2013
Single Fused Map Cache: false
Extent:
XMin: 645317.3828371436
YMin: 4766310.802013207
XMax: 646518.8698762995
YMax: 4767952.765555651
Spatial Reference: 26917
(26917)
Initial Extent:
XMin: 645317.3828371436
YMin: 4766310.802013207
XMax: 646518.8698762995
YMax: 4767952.765555651
Spatial Reference: 26917
(26917)
Full Extent:
XMin: 645317.3828371436
YMin: 4766310.802013207
XMax: 646518.8698762995
YMax: 4767952.765555651
Spatial Reference: 26917
(26917)
Pixel Size X: 0.10343380158022632
Pixel Size Y: 0.2050148011541641
Band Count: 3
Pixel Type: U8
RasterFunction Infos: {"rasterFunctionInfos": [{
"name": "None",
"description": "",
"help": ""
}]}
Mensuration Capabilities: Basic
Has Histograms: true
Has Colormap: false
Has Multi Dimensions : false
Rendering Rule:
Min Scale: 0
Max Scale: 0
Copyright Text: Brock University Map, Data & GIS Library
Service Data Type: esriImageServiceDataTypeRGB
Min Values: 0, 0, 0
Max Values: 255, 255, 255
Mean Values: 226.23351598353, 213.43856053205, 180.1667883445
Standard Deviation Values: 35.416150704867, 37.317399526589, 28.860235688123
Object ID Field:
Fields:
None
Default Mosaic Method: Center
Allowed Mosaic Methods:
SortField:
SortValue: null
Mosaic Operator: First
Default Compression Quality: 75
Default Resampling Method: Bilinear
Max Record Count: null
Max Image Height: 4100
Max Image Width: 15000
Max Download Image Count: null
Max Mosaic Image Count: null
Allow Raster Function: true
Allow Copy: true
Allow Analysis: true
Allow Compute TiePoints: false
Supports Statistics: false
Supports Advanced Queries: false
Use StandardizedQueries: true
Raster Type Infos:
Name: Raster Dataset
Description: Supports all ArcGIS Raster Datasets
Help:
Has Raster Attribute Table: false
Edit Fields Info: null
Ownership Based AccessControl For Rasters: null
Child Resources:
Info
Histograms
Statistics
Key Properties
Legend
Raster Function Infos
Supported Operations:
Export Image
Identify
Measure
Compute Histograms
Compute Statistics Histograms
Get Samples
Compute Class Statistics
Query Boundary
Compute Pixel Location
Compute Angles
Validate
Project