View In:
ArcGIS JavaScript
ArcGIS Online Map Viewer
ArcGIS Earth
ArcMap
View Footprint In:
ArcGIS Online Map Viewer
Service Description: Historical map showing the location and dimensions of the proposed building lots for merchants and traders in Queenston. It shows Robert Hamilton & Co occupying one lot, storehouse, "A Range of Log Buildings" (Rangers' barracks), roads, cliff and two small lakes to the west. It was included in Col McDonnell's letter of 10 Aug 1798 enclosing permission for a bldg lot to Thomas Clark at Queenston.
Scale: 1 inch to 1.4 chains
Relief shown by shading
Map date: 1798
Digital reproduction of map (13 1/2 x 19 3/4 in.) in the Public Archives of Canada. National Map Collection. Library and Archives Canada.
Georeferenced and modified from NMC Map number 4208 by Map, Data and GIS Library, Brock University.
Name: EarlyNiagara/Queenston1798NMC4208
Description: Historical map showing the location and dimensions of the proposed building lots for merchants and traders in Queenston. It shows Robert Hamilton & Co occupying one lot, storehouse, "A Range of Log Buildings" (Rangers' barracks), roads, cliff and two small lakes to the west. It was included in Col McDonnell's letter of 10 Aug 1798 enclosing permission for a bldg lot to Thomas Clark at Queenston.
Scale: 1 inch to 1.4 chains
Relief shown by shading
Map date: 1798
Digital reproduction of map (13 1/2 x 19 3/4 in.) in the Public Archives of Canada. National Map Collection. Library and Archives Canada.
Georeferenced and modified from NMC Map number 4208 by Map, Data and GIS Library, Brock University.
Single Fused Map Cache: false
Extent:
XMin: 658084.3609182214
YMin: 4780678.799386349
XMax: 658620.6879062214
YMax: 4781158.234322349
Spatial Reference: 26917
(26917)
Initial Extent:
XMin: 658084.3609182214
YMin: 4780678.799386349
XMax: 658620.6879062214
YMax: 4781158.234322349
Spatial Reference: 26917
(26917)
Full Extent:
XMin: 658084.3609182214
YMin: 4780678.799386349
XMax: 658620.6879062214
YMax: 4781158.234322349
Spatial Reference: 26917
(26917)
Pixel Size X: 0.08378799999999328
Pixel Size Y: 0.08378800000000598
Band Count: 1
Pixel Type: U16
RasterFunction Infos: {"rasterFunctionInfos": [{
"name": "None",
"description": "",
"help": ""
}]}
Mensuration Capabilities: Basic
Has Histograms: false
Has Colormap: false
Has Multi Dimensions : false
Rendering Rule:
Min Scale: 0
Max Scale: 0
Copyright Text: ["signed"]
Service Data Type: esriImageServiceDataTypeGeneric
Min Values: N/A
Max Values: N/A
Mean Values: N/A
Standard Deviation Values: N/A
Object ID Field:
Fields:
None
Default Mosaic Method: Center
Allowed Mosaic Methods:
SortField:
SortValue: null
Mosaic Operator: First
Default Compression Quality: 75
Default Resampling Method: Bilinear
Max Record Count: null
Max Image Height: 4100
Max Image Width: 15000
Max Download Image Count: null
Max Mosaic Image Count: null
Allow Raster Function: true
Allow Copy: true
Allow Analysis: true
Allow Compute TiePoints: false
Supports Statistics: false
Supports Advanced Queries: false
Use StandardizedQueries: true
Raster Type Infos:
Name: Raster Dataset
Description: Supports all ArcGIS Raster Datasets
Help:
Has Raster Attribute Table: false
Edit Fields Info: null
Ownership Based AccessControl For Rasters: null
Child Resources:
Info
Statistics
Key Properties
Legend
Raster Function Infos
Supported Operations:
Export Image
Identify
Measure
Compute Histograms
Compute Statistics Histograms
Get Samples
Compute Class Statistics
Query Boundary
Compute Pixel Location
Compute Angles
Validate
Project