View In:
ArcGIS JavaScript
ArcGIS Online Map Viewer
ArcGIS Earth
ArcMap
View Footprint In:
ArcGIS Online Map Viewer
Service Description: Map date: 1798NMC-???Scale [ca. 1:1,108]Relief shown by shading.Oriented with north to the right."H3/440 1798 Queenston"--written in ink in top right margin."Approved (signed) Robt. Prescott By order of the Commander in Chief (signed) James Green, Mil. Sec'y."Digital reproduction of map (43 x 53 cm.) in the Brock University Map, Data & GIS Library collection. Georeferenced and modified from Brock call# G 3464 Q84 G46 1798 M36 by Map, Data and GIS Library, Brock University.
Name: EarlyNiagara/Queenston1798NMC4347col
Description: Map date: 1798NMC-???Scale [ca. 1:1,108]Relief shown by shading.Oriented with north to the right."H3/440 1798 Queenston"--written in ink in top right margin."Approved (signed) Robt. Prescott By order of the Commander in Chief (signed) James Green, Mil. Sec'y."Digital reproduction of map (43 x 53 cm.) in the Brock University Map, Data & GIS Library collection. Georeferenced and modified from Brock call# G 3464 Q84 G46 1798 M36 by Map, Data and GIS Library, Brock University.
Single Fused Map Cache: false
Extent:
XMin: -8800483.620854663
YMin: 5336748.728431636
XMax: -8799576.074241662
YMax: 5337398.682748635
Spatial Reference: 102100
(3857)
Initial Extent:
XMin: -8800483.620854663
YMin: 5336748.728431636
XMax: -8799576.074241662
YMax: 5337398.682748635
Spatial Reference: 102100
(3857)
Full Extent:
XMin: -8800483.620854663
YMin: 5336748.728431636
XMax: -8799576.074241662
YMax: 5337398.682748635
Spatial Reference: 102100
(3857)
Pixel Size X: 0.1456970000000535
Pixel Size Y: 0.14569699999994692
Band Count: 3
Pixel Type: U16
RasterFunction Infos: {"rasterFunctionInfos": [{
"name": "None",
"description": "",
"help": ""
}]}
Mensuration Capabilities: Basic
Has Histograms: false
Has Colormap: false
Has Multi Dimensions : false
Rendering Rule:
Min Scale: 0
Max Scale: 0
Copyright Text: Gother MannJames GreenRobert PrescottMap, Data & GIS Library, Brock University.
Service Data Type: esriImageServiceDataTypeGeneric
Min Values: 25, 22, 21
Max Values: 255, 252, 222
Mean Values: 242.69219532604, 222.87584339471, 178.45067668777
Standard Deviation Values: 24.042387624384, 22.958037775876, 18.609802606215
Object ID Field:
Fields:
None
Default Mosaic Method: Center
Allowed Mosaic Methods:
SortField:
SortValue: null
Mosaic Operator: First
Default Compression Quality: 75
Default Resampling Method: Bilinear
Max Record Count: null
Max Image Height: 4100
Max Image Width: 15000
Max Download Image Count: null
Max Mosaic Image Count: null
Allow Raster Function: true
Allow Copy: true
Allow Analysis: true
Allow Compute TiePoints: false
Supports Statistics: false
Supports Advanced Queries: false
Use StandardizedQueries: true
Raster Type Infos:
Name: Raster Dataset
Description: Supports all ArcGIS Raster Datasets
Help:
Has Raster Attribute Table: false
Edit Fields Info: null
Ownership Based AccessControl For Rasters: null
Child Resources:
Info
Statistics
Key Properties
Legend
Raster Function Infos
Supported Operations:
Export Image
Identify
Measure
Compute Histograms
Compute Statistics Histograms
Get Samples
Compute Class Statistics
Query Boundary
Compute Pixel Location
Compute Angles
Validate
Project