View In:
ArcGIS JavaScript
ArcGIS Online Map Viewer
ArcGIS Earth
ArcMap
View Footprint In:
ArcGIS Online Map Viewer
Service Description: Historical map showing the plan of the Village of Queenston. It shows roads, boundaries of fields, relief, treed areas, ravines, wharfs, buildings, barracks, and the fuel yard. There is a note of the ‘position where Brock fell'.
[signed] John Alexander, Lieut, Ryl. Engrs. and Henry Vavasour, Comg. Ryl. Engrs.
Relief shown by hachures and shading.
Geographic coverage from Niagara River to Village of St. Davids.
Digital reproduction of map (76 x 87 cm.) in the Public Archives of Canada. National Map Collection. Library and Archives Canada.
Georeferenced and modified from NMC Map number 22750 by Map, Data and GIS Library, Brock University.
Name: EarlyNiagara/Queenston1818NMC22750
Description: Historical map showing the plan of the Village of Queenston. It shows roads, boundaries of fields, relief, treed areas, ravines, wharfs, buildings, barracks, and the fuel yard. There is a note of the ‘position where Brock fell'.
[signed] John Alexander, Lieut, Ryl. Engrs. and Henry Vavasour, Comg. Ryl. Engrs.
Relief shown by hachures and shading.
Geographic coverage from Niagara River to Village of St. Davids.
Digital reproduction of map (76 x 87 cm.) in the Public Archives of Canada. National Map Collection. Library and Archives Canada.
Georeferenced and modified from NMC Map number 22750 by Map, Data and GIS Library, Brock University.
Single Fused Map Cache: false
Extent:
XMin: -8806594.312118143
YMin: 5332360.205675191
XMax: -8798281.560830757
YMax: 5339625.764502249
Spatial Reference: 102100
(3857)
Initial Extent:
XMin: -8806594.312118143
YMin: 5332360.205675191
XMax: -8798281.560830757
YMax: 5339625.764502249
Spatial Reference: 102100
(3857)
Full Extent:
XMin: -8806594.312118143
YMin: 5332360.205675191
XMax: -8798281.560830757
YMax: 5339625.764502249
Spatial Reference: 102100
(3857)
Pixel Size X: 1.2421923621317725
Pixel Size Y: 1.240703351615007
Band Count: 3
Pixel Type: U8
RasterFunction Infos: {"rasterFunctionInfos": [{
"name": "None",
"description": "",
"help": ""
}]}
Mensuration Capabilities: Basic
Has Histograms: false
Has Colormap: false
Has Multi Dimensions : false
Rendering Rule:
Min Scale: 0
Max Scale: 0
Copyright Text: Map, Data & GIS Library, Brock University.
Service Data Type: esriImageServiceDataTypeRGB
Min Values: N/A
Max Values: N/A
Mean Values: N/A
Standard Deviation Values: N/A
Object ID Field:
Fields:
None
Default Mosaic Method: Center
Allowed Mosaic Methods:
SortField:
SortValue: null
Mosaic Operator: First
Default Compression Quality: 75
Default Resampling Method: Bilinear
Max Record Count: null
Max Image Height: 4100
Max Image Width: 15000
Max Download Image Count: null
Max Mosaic Image Count: null
Allow Raster Function: true
Allow Copy: true
Allow Analysis: true
Allow Compute TiePoints: false
Supports Statistics: false
Supports Advanced Queries: false
Use StandardizedQueries: true
Raster Type Infos:
Name: Raster Dataset
Description: Supports all ArcGIS Raster Datasets
Help:
Has Raster Attribute Table: false
Edit Fields Info: null
Ownership Based AccessControl For Rasters: null
Child Resources:
Info
Statistics
Key Properties
Legend
Raster Function Infos
Supported Operations:
Export Image
Identify
Measure
Compute Histograms
Compute Statistics Histograms
Get Samples
Compute Class Statistics
Query Boundary
Compute Pixel Location
Compute Angles
Validate
Project