View In:
ArcGIS JavaScript
ArcGIS Online Map Viewer
ArcGIS Earth
ArcMap
View Footprint In:
ArcGIS Online Map Viewer
Service Description: Historical map showing the Village of Queenston showing the reserve along the shore and west to the road that leads to St. David's. It shows streets (to Fort Erie & St. David's), paths, buildings (some with owners identified), the Government Wharf, and relief.
Digital reproduction of map (26 x 38 cm.) in the Public Archives of Canada. National Map Collection. Library and Archives Canada.
Relief shown by hachures.
Georeferenced and modified from NMC Map number 4349 by Map, Data and GIS Library, Brock University.
Name: EarlyNiagara/Queenston1819NMC4349
Description: Historical map showing the Village of Queenston showing the reserve along the shore and west to the road that leads to St. David's. It shows streets (to Fort Erie & St. David's), paths, buildings (some with owners identified), the Government Wharf, and relief.
Digital reproduction of map (26 x 38 cm.) in the Public Archives of Canada. National Map Collection. Library and Archives Canada.
Relief shown by hachures.
Georeferenced and modified from NMC Map number 4349 by Map, Data and GIS Library, Brock University.
Single Fused Map Cache: false
Extent:
XMin: -8802720.572732024
YMin: 5335092.977704779
XMax: -8798990.231250023
YMax: 5337799.792850779
Spatial Reference: 102100
(3857)
Initial Extent:
XMin: -8802720.572732024
YMin: 5335092.977704779
XMax: -8798990.231250023
YMax: 5337799.792850779
Spatial Reference: 102100
(3857)
Full Extent:
XMin: -8802720.572732024
YMin: 5335092.977704779
XMax: -8798990.231250023
YMax: 5337799.792850779
Spatial Reference: 102100
(3857)
Pixel Size X: 0.5421220000000618
Pixel Size Y: 0.542122000000025
Band Count: 1
Pixel Type: U16
RasterFunction Infos: {"rasterFunctionInfos": [{
"name": "None",
"description": "",
"help": ""
}]}
Mensuration Capabilities: Basic
Has Histograms: true
Has Colormap: false
Has Multi Dimensions : false
Rendering Rule:
Min Scale: 0
Max Scale: 0
Copyright Text: ["signed"]
Service Data Type: esriImageServiceDataTypeGeneric
Min Values: 16
Max Values: 251
Mean Values: 186.84925183299
Standard Deviation Values: 35.33865902498
Object ID Field:
Fields:
None
Default Mosaic Method: Center
Allowed Mosaic Methods:
SortField:
SortValue: null
Mosaic Operator: First
Default Compression Quality: 75
Default Resampling Method: Bilinear
Max Record Count: null
Max Image Height: 4100
Max Image Width: 15000
Max Download Image Count: null
Max Mosaic Image Count: null
Allow Raster Function: true
Allow Copy: true
Allow Analysis: true
Allow Compute TiePoints: false
Supports Statistics: false
Supports Advanced Queries: false
Use StandardizedQueries: true
Raster Type Infos:
Name: Raster Dataset
Description: Supports all ArcGIS Raster Datasets
Help:
Has Raster Attribute Table: false
Edit Fields Info: null
Ownership Based AccessControl For Rasters: null
Child Resources:
Info
Histograms
Statistics
Key Properties
Legend
Raster Function Infos
Supported Operations:
Export Image
Identify
Measure
Compute Histograms
Compute Statistics Histograms
Get Samples
Compute Class Statistics
Query Boundary
Compute Pixel Location
Compute Angles
Validate
Project