View In:
ArcGIS JavaScript
ArcGIS Online Map Viewer
ArcGIS Earth
ArcMap
View Footprint In:
ArcGIS Online Map Viewer
Service Description: Historical map showing buildings, roads, 'proposed road from the shore', wharf and stores.
Digital reproduction of map (67 x 83 cm.) in the Public Archives of Canada. National Map Collection. Library and Archives Canada.
Relief shown by shading
Georeferenced and modified from NMC Map number 22752 by Map, Data and GIS Library, Brock University.
Name: EarlyNiagara/Queenston1835NMC22752
Description: Historical map showing buildings, roads, 'proposed road from the shore', wharf and stores.
Digital reproduction of map (67 x 83 cm.) in the Public Archives of Canada. National Map Collection. Library and Archives Canada.
Relief shown by shading
Georeferenced and modified from NMC Map number 22752 by Map, Data and GIS Library, Brock University.
Single Fused Map Cache: false
Extent:
XMin: -8802777.574706903
YMin: 5335418.395618976
XMax: -8799305.095586903
YMax: 5338077.761074976
Spatial Reference: 102100
(3857)
Initial Extent:
XMin: -8802777.574706903
YMin: 5335418.395618976
XMax: -8799305.095586903
YMax: 5338077.761074976
Spatial Reference: 102100
(3857)
Full Extent:
XMin: -8802777.574706903
YMin: 5335418.395618976
XMax: -8799305.095586903
YMax: 5338077.761074976
Spatial Reference: 102100
(3857)
Pixel Size X: 0.4651679999999108
Pixel Size Y: 0.4651679999999948
Band Count: 1
Pixel Type: U16
RasterFunction Infos: {"rasterFunctionInfos": [{
"name": "None",
"description": "",
"help": ""
}]}
Mensuration Capabilities: Basic
Has Histograms: true
Has Colormap: false
Has Multi Dimensions : false
Rendering Rule:
Min Scale: 0
Max Scale: 0
Copyright Text: (signed) Gother Mann Captn. Commandg. Royl. Engineers."Surveyor General's Office Toronto, Upper Canada, 16th April 1835, (Copy) Henry Lizars, (signed) S.P. Hurd S.G."Map, Data & GIS Library, Brock University.
Service Data Type: esriImageServiceDataTypeGeneric
Min Values: 10
Max Values: 255
Mean Values: 187.83692853793
Standard Deviation Values: 35.005269004831
Object ID Field:
Fields:
None
Default Mosaic Method: Center
Allowed Mosaic Methods:
SortField:
SortValue: null
Mosaic Operator: First
Default Compression Quality: 75
Default Resampling Method: Bilinear
Max Record Count: null
Max Image Height: 4100
Max Image Width: 15000
Max Download Image Count: null
Max Mosaic Image Count: null
Allow Raster Function: true
Allow Copy: true
Allow Analysis: true
Allow Compute TiePoints: false
Supports Statistics: false
Supports Advanced Queries: false
Use StandardizedQueries: true
Raster Type Infos:
Name: Raster Dataset
Description: Supports all ArcGIS Raster Datasets
Help:
Has Raster Attribute Table: false
Edit Fields Info: null
Ownership Based AccessControl For Rasters: null
Child Resources:
Info
Histograms
Statistics
Key Properties
Legend
Raster Function Infos
Supported Operations:
Export Image
Identify
Measure
Compute Histograms
Compute Statistics Histograms
Get Samples
Compute Class Statistics
Query Boundary
Compute Pixel Location
Compute Angles
Validate
Project