View In:
ArcGIS JavaScript
ArcGIS Online Map Viewer
ArcGIS Earth
ArcMap
View Footprint In:
ArcGIS Online Map Viewer
Service Description: Historical map showing the military reserve, roads, buildings, railways, proposed grant for Queenston Suspension Bridge.
Map identifies location where "...Sir I. Brock fell 13th Oct. 1812" and Brock's Monument.
Relief shown by hachures.
Map date: 1850
Also known as title: Skeleton map, no.16 Queenston.
Digital reproduction of map (30 x 38 cm.) in the Public Archives of Canada. National Map Collection. Library and Archives Canada.
Georeferenced and modified from NMC Map number 4351 by Map, Data and GIS Library, Brock University.
Name: EarlyNiagara/Queenston1850NMC4351
Description: Historical map showing the military reserve, roads, buildings, railways, proposed grant for Queenston Suspension Bridge.
Map identifies location where "...Sir I. Brock fell 13th Oct. 1812" and Brock's Monument.
Relief shown by hachures.
Map date: 1850
Also known as title: Skeleton map, no.16 Queenston.
Digital reproduction of map (30 x 38 cm.) in the Public Archives of Canada. National Map Collection. Library and Archives Canada.
Georeferenced and modified from NMC Map number 4351 by Map, Data and GIS Library, Brock University.
Single Fused Map Cache: false
Extent:
XMin: 656022.3238408008
YMin: 4778492.685333983
XMax: 659673.9331008008
YMax: 4782654.787125983
Spatial Reference: 26917
(26917)
Initial Extent:
XMin: 656022.3238408008
YMin: 4778492.685333983
XMax: 659673.9331008008
YMax: 4782654.787125983
Spatial Reference: 26917
(26917)
Full Extent:
XMin: 656022.3238408008
YMin: 4778492.685333983
XMax: 659673.9331008008
YMax: 4782654.787125983
Spatial Reference: 26917
(26917)
Pixel Size X: 0.6106370000000093
Pixel Size Y: 0.6106370000000344
Band Count: 1
Pixel Type: U16
RasterFunction Infos: {"rasterFunctionInfos": [{
"name": "None",
"description": "",
"help": ""
}]}
Mensuration Capabilities: Basic
Has Histograms: true
Has Colormap: false
Has Multi Dimensions : false
Rendering Rule:
Min Scale: 0
Max Scale: 0
Copyright Text: ["signed"]
Service Data Type: esriImageServiceDataTypeGeneric
Min Values: 16
Max Values: 250
Mean Values: 199.12956380347
Standard Deviation Values: 36.809260341753
Object ID Field:
Fields:
None
Default Mosaic Method: Center
Allowed Mosaic Methods:
SortField:
SortValue: null
Mosaic Operator: First
Default Compression Quality: 75
Default Resampling Method: Bilinear
Max Record Count: null
Max Image Height: 4100
Max Image Width: 15000
Max Download Image Count: null
Max Mosaic Image Count: null
Allow Raster Function: true
Allow Copy: true
Allow Analysis: true
Allow Compute TiePoints: false
Supports Statistics: false
Supports Advanced Queries: false
Use StandardizedQueries: true
Raster Type Infos:
Name: Raster Dataset
Description: Supports all ArcGIS Raster Datasets
Help:
Has Raster Attribute Table: false
Edit Fields Info: null
Ownership Based AccessControl For Rasters: null
Child Resources:
Info
Histograms
Statistics
Key Properties
Legend
Raster Function Infos
Supported Operations:
Export Image
Identify
Measure
Compute Histograms
Compute Statistics Histograms
Get Samples
Compute Class Statistics
Query Boundary
Compute Pixel Location
Compute Angles
Validate
Project