View In:
ArcGIS JavaScript
ArcGIS Online Map Viewer
ArcGIS Earth
ArcMap
View Footprint In:
ArcGIS Online Map Viewer
Service Description: Historical map showing boundaries, roads, lot and concession numbers, buildings in the Village of Queenston, some land owners names, Niagara River and suspension bridge location.
Includes subtitle: Plan shewing the boundaries as marked on the ground, of the Military Reserve belonging to the Ordnance, at the Village of Queenston, Township of Niagara County of Lincoln, Canada West
Relief shown by shading.
Scale [ca 1:6,451]
Map date: 1854.
Digital reproduction of map in the Public Archives of Canada. National Map Collection. Library and Archives Canada.
Georeferenced and modified from NMC Map number 11434 by Map, Data and GIS Library, Brock University.
Name: EarlyNiagara/Queenston1854NMC11434
Description: Historical map showing boundaries, roads, lot and concession numbers, buildings in the Village of Queenston, some land owners names, Niagara River and suspension bridge location.
Includes subtitle: Plan shewing the boundaries as marked on the ground, of the Military Reserve belonging to the Ordnance, at the Village of Queenston, Township of Niagara County of Lincoln, Canada West
Relief shown by shading.
Scale [ca 1:6,451]
Map date: 1854.
Digital reproduction of map in the Public Archives of Canada. National Map Collection. Library and Archives Canada.
Georeferenced and modified from NMC Map number 11434 by Map, Data and GIS Library, Brock University.
Single Fused Map Cache: false
Extent:
XMin: 656746.3615021294
YMin: 4778475.955235636
XMax: 659288.6860141293
YMax: 4782830.542563636
Spatial Reference: 26917
(26917)
Initial Extent:
XMin: 656746.3615021294
YMin: 4778475.955235636
XMax: 659288.6860141293
YMax: 4782830.542563636
Spatial Reference: 26917
(26917)
Full Extent:
XMin: 656746.3615021294
YMin: 4778475.955235636
XMax: 659288.6860141293
YMax: 4782830.542563636
Spatial Reference: 26917
(26917)
Pixel Size X: 0.6784959999999901
Pixel Size Y: 0.6784959999999991
Band Count: 1
Pixel Type: U16
RasterFunction Infos: {"rasterFunctionInfos": [{
"name": "None",
"description": "",
"help": ""
}]}
Mensuration Capabilities: Basic
Has Histograms: true
Has Colormap: false
Has Multi Dimensions : false
Rendering Rule:
Min Scale: 0
Max Scale: 0
Copyright Text: Surveyed by Mr. William Hawkins
[Signed] William Hawkins
[Signed] Alex. Gordon
Map, Data & GIS Library, Brock University.
Service Data Type: esriImageServiceDataTypeGeneric
Min Values: 0
Max Values: 255
Mean Values: 187.84642491979
Standard Deviation Values: 37.434643525824
Object ID Field:
Fields:
None
Default Mosaic Method: Center
Allowed Mosaic Methods:
SortField:
SortValue: null
Mosaic Operator: First
Default Compression Quality: 75
Default Resampling Method: Bilinear
Max Record Count: null
Max Image Height: 4100
Max Image Width: 15000
Max Download Image Count: null
Max Mosaic Image Count: null
Allow Raster Function: true
Allow Copy: true
Allow Analysis: true
Allow Compute TiePoints: false
Supports Statistics: false
Supports Advanced Queries: false
Use StandardizedQueries: true
Raster Type Infos:
Name: Raster Dataset
Description: Supports all ArcGIS Raster Datasets
Help:
Has Raster Attribute Table: false
Edit Fields Info: null
Ownership Based AccessControl For Rasters: null
Child Resources:
Info
Histograms
Statistics
Key Properties
Legend
Raster Function Infos
Supported Operations:
Export Image
Identify
Measure
Compute Histograms
Compute Statistics Histograms
Get Samples
Compute Class Statistics
Query Boundary
Compute Pixel Location
Compute Angles
Validate
Project