View In:
ArcGIS JavaScript
ArcGIS Online Map Viewer
ArcGIS Earth
ArcMap
View Footprint In:
ArcGIS Online Map Viewer
Service Description: Map showing road, boundary and transportation features, township lot and concession lines, built up areas, legend. Sheet 30111. Bruce, Grey (1977) -- 30121. Ottawa-Carleton, Lanark, Leeds & Grenville (1972, 1974) -- 30131. Lennox & Addington, Frontenac, Prince Edward (1974) -- 30141. Huron, Wellington, Dufferin, Perth, Waterloo (1976) -- 30151. York, Peel, Halton, Hamilton-Wentworth, Niagara, east portion of Haldimand-Norfolk (1974) -- 30161. Essex, Kent, Lambton (1972, 1976) -- 30171. Northumberland, Peterborough, Victoria, Durham (1975) -- 30181. Prescott & Russell, Stormont, Dundas & Glengarry (1972) -- 30191. Renfrew (1972, 1979) -- 30201. Haliburton, Muskoka (1979) -- 30301. Hastings (1972, 1978) -- 30401. Manitoulin (1972, 1977) -- 30501. Nipissing, South (1972, 1977) -- 30601. Parry Sound (1979) -- 30701. Simcoe -- 30801. Brant, Oxford, Middlesex, Elgin, west portion of Haldimand-Norfolk (1975).
Name: EarlyNiagara/SOntarioCounties1974
Description: Map showing road, boundary and transportation features, township lot and concession lines, built up areas, legend. Sheet 30111. Bruce, Grey (1977) -- 30121. Ottawa-Carleton, Lanark, Leeds & Grenville (1972, 1974) -- 30131. Lennox & Addington, Frontenac, Prince Edward (1974) -- 30141. Huron, Wellington, Dufferin, Perth, Waterloo (1976) -- 30151. York, Peel, Halton, Hamilton-Wentworth, Niagara, east portion of Haldimand-Norfolk (1974) -- 30161. Essex, Kent, Lambton (1972, 1976) -- 30171. Northumberland, Peterborough, Victoria, Durham (1975) -- 30181. Prescott & Russell, Stormont, Dundas & Glengarry (1972) -- 30191. Renfrew (1972, 1979) -- 30201. Haliburton, Muskoka (1979) -- 30301. Hastings (1972, 1978) -- 30401. Manitoulin (1972, 1977) -- 30501. Nipissing, South (1972, 1977) -- 30601. Parry Sound (1979) -- 30701. Simcoe -- 30801. Brant, Oxford, Middlesex, Elgin, west portion of Haldimand-Norfolk (1975).
Single Fused Map Cache: false
Extent:
XMin: 554577.4024476124
YMin: 4730451.014055534
XMax: 694921.3326123487
YMax: 4923577.336166137
Spatial Reference: 26917
(26917)
Initial Extent:
XMin: 554577.4024476124
YMin: 4730451.014055534
XMax: 694921.3326123487
YMax: 4923577.336166137
Spatial Reference: 26917
(26917)
Full Extent:
XMin: 554577.4024476124
YMin: 4730451.014055534
XMax: 694921.3326123487
YMax: 4923577.336166137
Spatial Reference: 26917
(26917)
Pixel Size X: 10.596793277313225
Pixel Size Y: 10.560275705960336
Band Count: 3
Pixel Type: U8
RasterFunction Infos: {"rasterFunctionInfos": [{
"name": "None",
"description": "",
"help": ""
}]}
Mensuration Capabilities: Basic
Has Histograms: true
Has Colormap: false
Has Multi Dimensions : false
Rendering Rule:
Min Scale: 0
Max Scale: 0
Copyright Text: Brock University Map, Data & GIS Library
Service Data Type: esriImageServiceDataTypeRGB
Min Values: 0, 0, 0
Max Values: 255, 255, 255
Mean Values: 229.11992482594, 228.14336099025, 220.13763501136
Standard Deviation Values: 46.572488565419, 49.401480460974, 56.356643458362
Object ID Field:
Fields:
None
Default Mosaic Method: Center
Allowed Mosaic Methods:
SortField:
SortValue: null
Mosaic Operator: First
Default Compression Quality: 75
Default Resampling Method: Bilinear
Max Record Count: null
Max Image Height: 4100
Max Image Width: 15000
Max Download Image Count: null
Max Mosaic Image Count: null
Allow Raster Function: true
Allow Copy: true
Allow Analysis: true
Allow Compute TiePoints: false
Supports Statistics: false
Supports Advanced Queries: false
Use StandardizedQueries: true
Raster Type Infos:
Name: Raster Dataset
Description: Supports all ArcGIS Raster Datasets
Help:
Has Raster Attribute Table: false
Edit Fields Info: null
Ownership Based AccessControl For Rasters: null
Child Resources:
Info
Histograms
Statistics
Key Properties
Legend
Raster Function Infos
Supported Operations:
Export Image
Identify
Measure
Compute Histograms
Compute Statistics Histograms
Get Samples
Compute Class Statistics
Query Boundary
Compute Pixel Location
Compute Angles
Validate
Project