View In:
ArcGIS JavaScript
ArcGIS Online Map Viewer
ArcGIS Earth
ArcMap
View Footprint In:
ArcGIS Online Map Viewer
Service Description: Historical map showing farms, roads and relief features. Includes outline of proposed fortress.
Complete title: No. 1. Sketch of that part of the Short Hills in the District of Niagara called the Mountain and on which it is proposed to construct the new fortress
Relef shown by hachures and shading.
Scale [1:5,280]. 400 ft = 1 in.
Map date: 1827.
Digital reproduction of map (58.6 x 73.3 cm.) in the Public Archives of Canada. National Map Collection. Library and Archives Canada.
Georeferenced and modified from NMC Map number 22143 by Map, Data and GIS Library, Brock University.
Name: EarlyNiagara/ShortHills1827NMC22143
Description: Historical map showing farms, roads and relief features. Includes outline of proposed fortress.
Complete title: No. 1. Sketch of that part of the Short Hills in the District of Niagara called the Mountain and on which it is proposed to construct the new fortress
Relef shown by hachures and shading.
Scale [1:5,280]. 400 ft = 1 in.
Map date: 1827.
Digital reproduction of map (58.6 x 73.3 cm.) in the Public Archives of Canada. National Map Collection. Library and Archives Canada.
Georeferenced and modified from NMC Map number 22143 by Map, Data and GIS Library, Brock University.
Single Fused Map Cache: false
Extent:
XMin: 636231.2181511931
YMin: 4766020.82289969
XMax: 639705.4523431931
YMax: 4770381.93965969
Spatial Reference: 26917
(26917)
Initial Extent:
XMin: 636231.2181511931
YMin: 4766020.82289969
XMax: 639705.4523431931
YMax: 4770381.93965969
Spatial Reference: 26917
(26917)
Full Extent:
XMin: 636231.2181511931
YMin: 4766020.82289969
XMax: 639705.4523431931
YMax: 4770381.93965969
Spatial Reference: 26917
(26917)
Pixel Size X: 0.9162010000000009
Pixel Size Y: 0.9162009999999275
Band Count: 1
Pixel Type: U16
RasterFunction Infos: {"rasterFunctionInfos": [{
"name": "None",
"description": "",
"help": ""
}]}
Mensuration Capabilities: Basic
Has Histograms: true
Has Colormap: false
Has Multi Dimensions : false
Rendering Rule:
Min Scale: 0
Max Scale: 0
Copyright Text: ["signed"]
Service Data Type: esriImageServiceDataTypeGeneric
Min Values: 31
Max Values: 255
Mean Values: 175.6700371273
Standard Deviation Values: 46.2654066394
Object ID Field:
Fields:
None
Default Mosaic Method: Center
Allowed Mosaic Methods:
SortField:
SortValue: null
Mosaic Operator: First
Default Compression Quality: 75
Default Resampling Method: Bilinear
Max Record Count: null
Max Image Height: 4100
Max Image Width: 15000
Max Download Image Count: null
Max Mosaic Image Count: null
Allow Raster Function: true
Allow Copy: true
Allow Analysis: true
Allow Compute TiePoints: false
Supports Statistics: false
Supports Advanced Queries: false
Use StandardizedQueries: true
Raster Type Infos:
Name: Raster Dataset
Description: Supports all ArcGIS Raster Datasets
Help:
Has Raster Attribute Table: false
Edit Fields Info: null
Ownership Based AccessControl For Rasters: null
Child Resources:
Info
Histograms
Statistics
Key Properties
Legend
Raster Function Infos
Supported Operations:
Export Image
Identify
Measure
Compute Histograms
Compute Statistics Histograms
Get Samples
Compute Class Statistics
Query Boundary
Compute Pixel Location
Compute Angles
Validate
Project