View In:
ArcGIS JavaScript
ArcGIS Online Map Viewer
ArcGIS Earth
ArcMap
View Footprint In:
ArcGIS Online Map Viewer
Service Description: Historical map showing lot owners' names with types of soil and trees, buildings, roads and relief features.
Complete title: No. 2. Plan of that part of the Short Hills in the District of Niagara called the Mountain shewing those lots of grants of land in the 5th, 6th, & 7th concessions of the Township of Pelham in the County of Lincoln which are near the site of the new fortress as proposed in the report of M. General Sir James Carmichael-Smyth
Relief shown by hachures.
Scale [1:5,280]. 1 in. to 440 ft.
Map date: 1827
Digital reproduction of map (21 3/4 x 26 1/2 in.) in the Public Archives of Canada. National Map Collection. Library and Archives Canada.
Georeferenced and modified from NMC Map number 22144 by Map, Data and GIS Library, Brock University.
Name: EarlyNiagara/ShortHills1827NMC22144
Description: Historical map showing lot owners' names with types of soil and trees, buildings, roads and relief features.
Complete title: No. 2. Plan of that part of the Short Hills in the District of Niagara called the Mountain shewing those lots of grants of land in the 5th, 6th, & 7th concessions of the Township of Pelham in the County of Lincoln which are near the site of the new fortress as proposed in the report of M. General Sir James Carmichael-Smyth
Relief shown by hachures.
Scale [1:5,280]. 1 in. to 440 ft.
Map date: 1827
Digital reproduction of map (21 3/4 x 26 1/2 in.) in the Public Archives of Canada. National Map Collection. Library and Archives Canada.
Georeferenced and modified from NMC Map number 22144 by Map, Data and GIS Library, Brock University.
Single Fused Map Cache: false
Extent:
XMin: 636228.0304780201
YMin: 4766452.515420696
XMax: 639530.32475002
YMax: 4770710.139420696
Spatial Reference: 26917
(26917)
Initial Extent:
XMin: 636228.0304780201
YMin: 4766452.515420696
XMax: 639530.32475002
YMax: 4770710.139420696
Spatial Reference: 26917
(26917)
Full Extent:
XMin: 636228.0304780201
YMin: 4766452.515420696
XMax: 639530.32475002
YMax: 4770710.139420696
Spatial Reference: 26917
(26917)
Pixel Size X: 0.8109759999999927
Pixel Size Y: 0.8109759999999688
Band Count: 1
Pixel Type: U16
RasterFunction Infos: {"rasterFunctionInfos": [{
"name": "None",
"description": "",
"help": ""
}]}
Mensuration Capabilities: Basic
Has Histograms: true
Has Colormap: false
Has Multi Dimensions : false
Rendering Rule:
Min Scale: 0
Max Scale: 0
Copyright Text: ["signed"]
Service Data Type: esriImageServiceDataTypeGeneric
Min Values: 16
Max Values: 255
Mean Values: 174.59041602157
Standard Deviation Values: 43.115084387976
Object ID Field:
Fields:
None
Default Mosaic Method: Center
Allowed Mosaic Methods:
SortField:
SortValue: null
Mosaic Operator: First
Default Compression Quality: 75
Default Resampling Method: Bilinear
Max Record Count: null
Max Image Height: 4100
Max Image Width: 15000
Max Download Image Count: null
Max Mosaic Image Count: null
Allow Raster Function: true
Allow Copy: true
Allow Analysis: true
Allow Compute TiePoints: false
Supports Statistics: false
Supports Advanced Queries: false
Use StandardizedQueries: true
Raster Type Infos:
Name: Raster Dataset
Description: Supports all ArcGIS Raster Datasets
Help:
Has Raster Attribute Table: false
Edit Fields Info: null
Ownership Based AccessControl For Rasters: null
Child Resources:
Info
Histograms
Statistics
Key Properties
Legend
Raster Function Infos
Supported Operations:
Export Image
Identify
Measure
Compute Histograms
Compute Statistics Histograms
Get Samples
Compute Class Statistics
Query Boundary
Compute Pixel Location
Compute Angles
Validate
Project