View In:
ArcGIS JavaScript
ArcGIS Online Map Viewer
ArcGIS Earth
ArcMap
View Footprint In:
ArcGIS Online Map Viewer
Service Description: Historical map of Short Hills showing relief features and outline of proposed fortress
Digital reproduction of map ( 21 x 26 3/4 in.) in the Public Archives of Canada. National Map Collection. Library and Archives Canada.
Relief shown by hachures and spot heights.
Georeferenced and modified from NMC Map number 22145 by Map, Data and GIS Library, Brock University.
Name: EarlyNiagara/ShortHills1827NMC22145
Description: Historical map of Short Hills showing relief features and outline of proposed fortress
Digital reproduction of map ( 21 x 26 3/4 in.) in the Public Archives of Canada. National Map Collection. Library and Archives Canada.
Relief shown by hachures and spot heights.
Georeferenced and modified from NMC Map number 22145 by Map, Data and GIS Library, Brock University.
Single Fused Map Cache: false
Extent:
XMin: 637399.5131598357
YMin: 4767199.845545661
XMax: 638950.7183620747
YMax: 4769203.963762012
Spatial Reference: 26917
(26917)
Initial Extent:
XMin: 637399.5131598357
YMin: 4767199.845545661
XMax: 638950.7183620747
YMax: 4769203.963762012
Spatial Reference: 26917
(26917)
Full Extent:
XMin: 637399.5131598357
YMin: 4767199.845545661
XMax: 638950.7183620747
YMax: 4769203.963762012
Spatial Reference: 26917
(26917)
Pixel Size X: 0.39053504588091226
Pixel Size Y: 0.397800360530291
Band Count: 1
Pixel Type: U8
RasterFunction Infos: {"rasterFunctionInfos": [{
"name": "None",
"description": "",
"help": ""
}]}
Mensuration Capabilities: Basic
Has Histograms: false
Has Colormap: false
Has Multi Dimensions : false
Rendering Rule:
Min Scale: 0
Max Scale: 0
Copyright Text: Map, Data & GIS Library, Brock University.
Service Data Type: esriImageServiceDataTypeGeneric
Min Values: N/A
Max Values: N/A
Mean Values: N/A
Standard Deviation Values: N/A
Object ID Field:
Fields:
None
Default Mosaic Method: Center
Allowed Mosaic Methods:
SortField:
SortValue: null
Mosaic Operator: First
Default Compression Quality: 75
Default Resampling Method: Bilinear
Max Record Count: null
Max Image Height: 4100
Max Image Width: 15000
Max Download Image Count: null
Max Mosaic Image Count: null
Allow Raster Function: true
Allow Copy: true
Allow Analysis: true
Allow Compute TiePoints: false
Supports Statistics: false
Supports Advanced Queries: false
Use StandardizedQueries: true
Raster Type Infos:
Name: Raster Dataset
Description: Supports all ArcGIS Raster Datasets
Help:
Has Raster Attribute Table: false
Edit Fields Info: null
Ownership Based AccessControl For Rasters: null
Child Resources:
Info
Statistics
Key Properties
Legend
Raster Function Infos
Supported Operations:
Export Image
Identify
Measure
Compute Histograms
Compute Statistics Histograms
Get Samples
Compute Class Statistics
Query Boundary
Compute Pixel Location
Compute Angles
Validate
Project