View In:
ArcGIS JavaScript
ArcGIS Online Map Viewer
ArcGIS Earth
ArcMap
View Footprint In:
ArcGIS Online Map Viewer
Service Description: Historical map showing lot owners' names with types of soil and trees, buildings, roads and relief features.
Complete title: Plan no. 2. Plan of that part of the Short Hills, in the Niagara District called the "Mountain" showing the lots or grants of land, quantity cultivated and remaining in forest, with the extend of the sectional lines but through the woods in levelling for plan no.3
Relief shown by hachures
Scale [1:5,280]. 1 in. to 440 ft.
Map date: [1827]
Digital reproduction of map (21 3/4 x 26 1/2 in.) in the Public Archives of Canada. National Map Collection. Library and Archives Canada.
Georeferenced and modified from NMC Map number 22146 by Map, Data and GIS Library, Brock University.
Name: EarlyNiagara/ShortHills1827NMC22146
Description: Historical map showing lot owners' names with types of soil and trees, buildings, roads and relief features.
Complete title: Plan no. 2. Plan of that part of the Short Hills, in the Niagara District called the "Mountain" showing the lots or grants of land, quantity cultivated and remaining in forest, with the extend of the sectional lines but through the woods in levelling for plan no.3
Relief shown by hachures
Scale [1:5,280]. 1 in. to 440 ft.
Map date: [1827]
Digital reproduction of map (21 3/4 x 26 1/2 in.) in the Public Archives of Canada. National Map Collection. Library and Archives Canada.
Georeferenced and modified from NMC Map number 22146 by Map, Data and GIS Library, Brock University.
Single Fused Map Cache: false
Extent:
XMin: 636506.782547588
YMin: 4766301.503636276
XMax: 639492.099167588
YMax: 4770284.293216276
Spatial Reference: 26917
(26917)
Initial Extent:
XMin: 636506.782547588
YMin: 4766301.503636276
XMax: 639492.099167588
YMax: 4770284.293216276
Spatial Reference: 26917
(26917)
Full Extent:
XMin: 636506.782547588
YMin: 4766301.503636276
XMax: 639492.099167588
YMax: 4770284.293216276
Spatial Reference: 26917
(26917)
Pixel Size X: 0.7891400000000148
Pixel Size Y: 0.7891399999999273
Band Count: 1
Pixel Type: U16
RasterFunction Infos: {"rasterFunctionInfos": [{
"name": "None",
"description": "",
"help": ""
}]}
Mensuration Capabilities: Basic
Has Histograms: true
Has Colormap: false
Has Multi Dimensions : false
Rendering Rule:
Min Scale: 0
Max Scale: 0
Copyright Text: Map, Data & GIS Library, Brock University.
Service Data Type: esriImageServiceDataTypeGeneric
Min Values: 17
Max Values: 255
Mean Values: 156.23537814638
Standard Deviation Values: 30.998720398446
Object ID Field:
Fields:
None
Default Mosaic Method: Center
Allowed Mosaic Methods:
SortField:
SortValue: null
Mosaic Operator: First
Default Compression Quality: 75
Default Resampling Method: Bilinear
Max Record Count: null
Max Image Height: 4100
Max Image Width: 15000
Max Download Image Count: null
Max Mosaic Image Count: null
Allow Raster Function: true
Allow Copy: true
Allow Analysis: true
Allow Compute TiePoints: false
Supports Statistics: false
Supports Advanced Queries: false
Use StandardizedQueries: true
Raster Type Infos:
Name: Raster Dataset
Description: Supports all ArcGIS Raster Datasets
Help:
Has Raster Attribute Table: false
Edit Fields Info: null
Ownership Based AccessControl For Rasters: null
Child Resources:
Info
Histograms
Statistics
Key Properties
Legend
Raster Function Infos
Supported Operations:
Export Image
Identify
Measure
Compute Histograms
Compute Statistics Histograms
Get Samples
Compute Class Statistics
Query Boundary
Compute Pixel Location
Compute Angles
Validate
Project